BEGIN:VCALENDAR
VERSION:2.0
PRODID:-//Konrad-Adenauer-Gymnasium - ECPv6.15.20//NONSGML v1.0//EN
CALSCALE:GREGORIAN
METHOD:PUBLISH
X-ORIGINAL-URL:https://adenauer-bonn.de
X-WR-CALDESC:Veranstaltungen für Konrad-Adenauer-Gymnasium
REFRESH-INTERVAL;VALUE=DURATION:PT1H
X-Robots-Tag:noindex
X-PUBLISHED-TTL:PT1H
BEGIN:VTIMEZONE
TZID:Europe/Berlin
BEGIN:DAYLIGHT
TZOFFSETFROM:+0100
TZOFFSETTO:+0200
TZNAME:CEST
DTSTART:20200329T010000
END:DAYLIGHT
BEGIN:STANDARD
TZOFFSETFROM:+0200
TZOFFSETTO:+0100
TZNAME:CET
DTSTART:20201025T010000
END:STANDARD
BEGIN:DAYLIGHT
TZOFFSETFROM:+0100
TZOFFSETTO:+0200
TZNAME:CEST
DTSTART:20210328T010000
END:DAYLIGHT
BEGIN:STANDARD
TZOFFSETFROM:+0200
TZOFFSETTO:+0100
TZNAME:CET
DTSTART:20211031T010000
END:STANDARD
BEGIN:DAYLIGHT
TZOFFSETFROM:+0100
TZOFFSETTO:+0200
TZNAME:CEST
DTSTART:20220327T010000
END:DAYLIGHT
BEGIN:STANDARD
TZOFFSETFROM:+0200
TZOFFSETTO:+0100
TZNAME:CET
DTSTART:20221030T010000
END:STANDARD
END:VTIMEZONE
BEGIN:VEVENT
DTSTART;VALUE=DATE:20210921
DTEND;VALUE=DATE:20210922
DTSTAMP:20260422T174219
CREATED:20210827T170702Z
LAST-MODIFIED:20210827T170752Z
UID:22215-1632182400-1632268799@adenauer-bonn.de
SUMMARY:6b Deutsch Nr. 1
DESCRIPTION:
URL:https://adenauer-bonn.de/termin/22215/
END:VEVENT
BEGIN:VEVENT
DTSTART;VALUE=DATE:20210921
DTEND;VALUE=DATE:20210922
DTSTAMP:20260422T174219
CREATED:20210828T154113Z
LAST-MODIFIED:20210828T154113Z
UID:22233-1632182400-1632268799@adenauer-bonn.de
SUMMARY:F 7bc Nr.1 STA
DESCRIPTION:
URL:https://adenauer-bonn.de/termin/f-7bc-nr-1-sta/
END:VEVENT
BEGIN:VEVENT
DTSTART;VALUE=DATE:20210921
DTEND;VALUE=DATE:20210922
DTSTAMP:20260422T174219
CREATED:20210829T090050Z
LAST-MODIFIED:20210829T090050Z
UID:22242-1632182400-1632268799@adenauer-bonn.de
SUMMARY:5c Mathematik (SON)
DESCRIPTION:
URL:https://adenauer-bonn.de/termin/5c-mathematik-son/
END:VEVENT
BEGIN:VEVENT
DTSTART;VALUE=DATE:20210921
DTEND;VALUE=DATE:20210922
DTSTAMP:20260422T174219
CREATED:20210829T095214Z
LAST-MODIFIED:20210829T095214Z
UID:22252-1632182400-1632268799@adenauer-bonn.de
SUMMARY:Klasse 7ac Französisch
DESCRIPTION:
URL:https://adenauer-bonn.de/termin/klasse-7ac-franzoesisch-2/
END:VEVENT
BEGIN:VEVENT
DTSTART;VALUE=DATE:20210921
DTEND;VALUE=DATE:20210922
DTSTAMP:20260422T174219
CREATED:20210829T185601Z
LAST-MODIFIED:20210829T185827Z
UID:22306-1632182400-1632268799@adenauer-bonn.de
SUMMARY:9c Lernstand Englisch 1./2. Stunde
DESCRIPTION:
URL:https://adenauer-bonn.de/termin/9c-lernstand-e-1-2-stunde/
END:VEVENT
BEGIN:VEVENT
DTSTART;VALUE=DATE:20210921
DTEND;VALUE=DATE:20210922
DTSTAMP:20260422T174219
CREATED:20210830T115151Z
LAST-MODIFIED:20210830T115545Z
UID:22335-1632182400-1632268799@adenauer-bonn.de
SUMMARY:Lateinarbeit 7 a-c (GRE)
DESCRIPTION:
URL:https://adenauer-bonn.de/termin/lateinarbeit-7-a-c-gre/
END:VEVENT
BEGIN:VEVENT
DTSTART;VALUE=DATE:20210921
DTEND;VALUE=DATE:20210922
DTSTAMP:20260422T174219
CREATED:20210906T131117Z
LAST-MODIFIED:20210906T131117Z
UID:22462-1632182400-1632268799@adenauer-bonn.de
SUMMARY:6a Englisch 1. Klassenarbeit
DESCRIPTION:
URL:https://adenauer-bonn.de/termin/6a-englisch-1-klassenarbeit/
END:VEVENT
END:VCALENDAR