BEGIN:VCALENDAR
VERSION:2.0
PRODID:-//Konrad-Adenauer-Gymnasium - ECPv6.15.20//NONSGML v1.0//EN
CALSCALE:GREGORIAN
METHOD:PUBLISH
X-ORIGINAL-URL:https://adenauer-bonn.de
X-WR-CALDESC:Veranstaltungen für Konrad-Adenauer-Gymnasium
REFRESH-INTERVAL;VALUE=DURATION:PT1H
X-Robots-Tag:noindex
X-PUBLISHED-TTL:PT1H
BEGIN:VTIMEZONE
TZID:Europe/Berlin
BEGIN:DAYLIGHT
TZOFFSETFROM:+0100
TZOFFSETTO:+0200
TZNAME:CEST
DTSTART:20200329T010000
END:DAYLIGHT
BEGIN:STANDARD
TZOFFSETFROM:+0200
TZOFFSETTO:+0100
TZNAME:CET
DTSTART:20201025T010000
END:STANDARD
BEGIN:DAYLIGHT
TZOFFSETFROM:+0100
TZOFFSETTO:+0200
TZNAME:CEST
DTSTART:20210328T010000
END:DAYLIGHT
BEGIN:STANDARD
TZOFFSETFROM:+0200
TZOFFSETTO:+0100
TZNAME:CET
DTSTART:20211031T010000
END:STANDARD
BEGIN:DAYLIGHT
TZOFFSETFROM:+0100
TZOFFSETTO:+0200
TZNAME:CEST
DTSTART:20220327T010000
END:DAYLIGHT
BEGIN:STANDARD
TZOFFSETFROM:+0200
TZOFFSETTO:+0100
TZNAME:CET
DTSTART:20221030T010000
END:STANDARD
END:VTIMEZONE
BEGIN:VEVENT
DTSTART;VALUE=DATE:20210923
DTEND;VALUE=DATE:20210924
DTSTAMP:20260422T185858
CREATED:20210829T185735Z
LAST-MODIFIED:20210829T185735Z
UID:22308-1632355200-1632441599@adenauer-bonn.de
SUMMARY:9b Lernstand Englisch 1./2. Stunde
DESCRIPTION:
URL:https://adenauer-bonn.de/termin/9b-lernstand-englisch-1-2-stunde/
END:VEVENT
BEGIN:VEVENT
DTSTART;VALUE=DATE:20210923
DTEND;VALUE=DATE:20210924
DTSTAMP:20260422T185858
CREATED:20210829T185854Z
LAST-MODIFIED:20210829T185854Z
UID:22311-1632355200-1632441599@adenauer-bonn.de
SUMMARY:9a Lernstand Englisch 5./6. Stunde
DESCRIPTION:
URL:https://adenauer-bonn.de/termin/9a-lernstand-englisch-5-6-stunde/
END:VEVENT
BEGIN:VEVENT
DTSTART;VALUE=DATE:20210923
DTEND;VALUE=DATE:20210924
DTSTAMP:20260422T185858
CREATED:20210830T074742Z
LAST-MODIFIED:20210901T184912Z
UID:22326-1632355200-1632441599@adenauer-bonn.de
SUMMARY:5b Deutscharbeit
DESCRIPTION:
URL:https://adenauer-bonn.de/termin/5b-deutscharbeit/
END:VEVENT
BEGIN:VEVENT
DTSTART;VALUE=DATE:20210923
DTEND;VALUE=DATE:20210924
DTSTAMP:20260422T185858
CREATED:20210830T074914Z
LAST-MODIFIED:20210901T184750Z
UID:22330-1632355200-1632441599@adenauer-bonn.de
SUMMARY:5c Deutscharbeit
DESCRIPTION:
URL:https://adenauer-bonn.de/termin/5c-deutscharbeit-2/
END:VEVENT
BEGIN:VEVENT
DTSTART;VALUE=DATE:20210923
DTEND;VALUE=DATE:20210924
DTSTAMP:20260422T185858
CREATED:20210901T184936Z
LAST-MODIFIED:20210901T184936Z
UID:22388-1632355200-1632441599@adenauer-bonn.de
SUMMARY:5a Deutscharbeit
DESCRIPTION:
URL:https://adenauer-bonn.de/termin/5a-deutscharbeit/
END:VEVENT
END:VCALENDAR