BEGIN:VCALENDAR
VERSION:2.0
PRODID:-//Konrad-Adenauer-Gymnasium - ECPv6.15.20//NONSGML v1.0//EN
CALSCALE:GREGORIAN
METHOD:PUBLISH
X-ORIGINAL-URL:https://adenauer-bonn.de
X-WR-CALDESC:Veranstaltungen für Konrad-Adenauer-Gymnasium
REFRESH-INTERVAL;VALUE=DURATION:PT1H
X-Robots-Tag:noindex
X-PUBLISHED-TTL:PT1H
BEGIN:VTIMEZONE
TZID:Europe/Berlin
BEGIN:DAYLIGHT
TZOFFSETFROM:+0100
TZOFFSETTO:+0200
TZNAME:CEST
DTSTART:20200329T010000
END:DAYLIGHT
BEGIN:STANDARD
TZOFFSETFROM:+0200
TZOFFSETTO:+0100
TZNAME:CET
DTSTART:20201025T010000
END:STANDARD
BEGIN:DAYLIGHT
TZOFFSETFROM:+0100
TZOFFSETTO:+0200
TZNAME:CEST
DTSTART:20210328T010000
END:DAYLIGHT
BEGIN:STANDARD
TZOFFSETFROM:+0200
TZOFFSETTO:+0100
TZNAME:CET
DTSTART:20211031T010000
END:STANDARD
BEGIN:DAYLIGHT
TZOFFSETFROM:+0100
TZOFFSETTO:+0200
TZNAME:CEST
DTSTART:20220327T010000
END:DAYLIGHT
BEGIN:STANDARD
TZOFFSETFROM:+0200
TZOFFSETTO:+0100
TZNAME:CET
DTSTART:20221030T010000
END:STANDARD
END:VTIMEZONE
BEGIN:VEVENT
DTSTART;VALUE=DATE:20210924
DTEND;VALUE=DATE:20210925
DTSTAMP:20260422T202521
CREATED:20210827T131304Z
LAST-MODIFIED:20210827T131304Z
UID:22198-1632441600-1632527999@adenauer-bonn.de
SUMMARY:E 6b Nr.1 STA
DESCRIPTION:
URL:https://adenauer-bonn.de/termin/e-6b-nr-1-sta/
END:VEVENT
BEGIN:VEVENT
DTSTART;VALUE=DATE:20210924
DTEND;VALUE=DATE:20210925
DTSTAMP:20260422T202521
CREATED:20210829T095527Z
LAST-MODIFIED:20210909T162051Z
UID:22261-1632441600-1632527999@adenauer-bonn.de
SUMMARY:9C Vokabeltest
DESCRIPTION:
URL:https://adenauer-bonn.de/termin/9c-vokabeltest-3/
END:VEVENT
BEGIN:VEVENT
DTSTART;TZID=Europe/Berlin:20210924T080000
DTEND;TZID=Europe/Berlin:20210924T170000
DTSTAMP:20260422T202521
CREATED:20210828T154838Z
LAST-MODIFIED:20210828T154838Z
UID:22235-1632470400-1632502800@adenauer-bonn.de
SUMMARY:6a Deutsch (Emr)
DESCRIPTION:
URL:https://adenauer-bonn.de/termin/6a-deutsch-emr/
END:VEVENT
END:VCALENDAR