BEGIN:VCALENDAR
VERSION:2.0
PRODID:-//Konrad-Adenauer-Gymnasium - ECPv6.15.20//NONSGML v1.0//EN
CALSCALE:GREGORIAN
METHOD:PUBLISH
X-ORIGINAL-URL:https://adenauer-bonn.de
X-WR-CALDESC:Veranstaltungen für Konrad-Adenauer-Gymnasium
REFRESH-INTERVAL;VALUE=DURATION:PT1H
X-Robots-Tag:noindex
X-PUBLISHED-TTL:PT1H
BEGIN:VTIMEZONE
TZID:Europe/Berlin
BEGIN:DAYLIGHT
TZOFFSETFROM:+0100
TZOFFSETTO:+0200
TZNAME:CEST
DTSTART:20200329T010000
END:DAYLIGHT
BEGIN:STANDARD
TZOFFSETFROM:+0200
TZOFFSETTO:+0100
TZNAME:CET
DTSTART:20201025T010000
END:STANDARD
BEGIN:DAYLIGHT
TZOFFSETFROM:+0100
TZOFFSETTO:+0200
TZNAME:CEST
DTSTART:20210328T010000
END:DAYLIGHT
BEGIN:STANDARD
TZOFFSETFROM:+0200
TZOFFSETTO:+0100
TZNAME:CET
DTSTART:20211031T010000
END:STANDARD
BEGIN:DAYLIGHT
TZOFFSETFROM:+0100
TZOFFSETTO:+0200
TZNAME:CEST
DTSTART:20220327T010000
END:DAYLIGHT
BEGIN:STANDARD
TZOFFSETFROM:+0200
TZOFFSETTO:+0100
TZNAME:CET
DTSTART:20221030T010000
END:STANDARD
END:VTIMEZONE
BEGIN:VEVENT
DTSTART;VALUE=DATE:20211122
DTEND;VALUE=DATE:20211123
DTSTAMP:20260422T131049
CREATED:20210827T132517Z
LAST-MODIFIED:20210827T132517Z
UID:22204-1637539200-1637625599@adenauer-bonn.de
SUMMARY:E 5b Nr.2 STA
DESCRIPTION:
URL:https://adenauer-bonn.de/termin/e-5b-nr-2-sta/
END:VEVENT
BEGIN:VEVENT
DTSTART;VALUE=DATE:20211122
DTEND;VALUE=DATE:20211123
DTSTAMP:20260422T131049
CREATED:20211028T124631Z
LAST-MODIFIED:20211112T070101Z
UID:23584-1637539200-1637625599@adenauer-bonn.de
SUMMARY:Klasse 8b Deutsch
DESCRIPTION:
URL:https://adenauer-bonn.de/termin/klasse-8b-deutsch-3/
END:VEVENT
BEGIN:VEVENT
DTSTART;VALUE=DATE:20211122
DTEND;VALUE=DATE:20211123
DTSTAMP:20260422T131049
CREATED:20211028T124653Z
LAST-MODIFIED:20211105T085529Z
UID:23586-1637539200-1637625599@adenauer-bonn.de
SUMMARY:Klasse 8c Deutsch
DESCRIPTION:
URL:https://adenauer-bonn.de/termin/klasse-8c-deutsch/
END:VEVENT
BEGIN:VEVENT
DTSTART;VALUE=DATE:20211122
DTEND;VALUE=DATE:20211123
DTSTAMP:20260422T131049
CREATED:20211101T165546Z
LAST-MODIFIED:20211101T165546Z
UID:23602-1637539200-1637625599@adenauer-bonn.de
SUMMARY:7b Englisch 2. Klassenarbeit
DESCRIPTION:
URL:https://adenauer-bonn.de/termin/7b-englisch-2-klassenarbeit/
END:VEVENT
BEGIN:VEVENT
DTSTART;VALUE=DATE:20211122
DTEND;VALUE=DATE:20211123
DTSTAMP:20260422T131049
CREATED:20211113T191542Z
LAST-MODIFIED:20211113T191542Z
UID:23677-1637539200-1637625599@adenauer-bonn.de
SUMMARY:Test Bio 5a (RNG)
DESCRIPTION:
URL:https://adenauer-bonn.de/termin/test-bio-5a-rng/
END:VEVENT
BEGIN:VEVENT
DTSTART;TZID=Europe/Berlin:20211122T080000
DTEND;TZID=Europe/Berlin:20211122T084500
DTSTAMP:20260422T131049
CREATED:20211116T173129Z
LAST-MODIFIED:20211116T173129Z
UID:24515-1637568000-1637570700@adenauer-bonn.de
SUMMARY:5a Mathematik 2. Klassenarbeit
DESCRIPTION:
URL:https://adenauer-bonn.de/termin/5a-mathematik-2-klassenarbeit/
END:VEVENT
BEGIN:VEVENT
DTSTART;TZID=Europe/Berlin:20211122T080000
DTEND;TZID=Europe/Berlin:20211122T170000
DTSTAMP:20260422T131049
CREATED:20211005T152443Z
LAST-MODIFIED:20211005T154924Z
UID:23489-1637568000-1637600400@adenauer-bonn.de
SUMMARY:7a Englisch 2. Klassenarbeit
DESCRIPTION:
URL:https://adenauer-bonn.de/termin/7a-englisch-2-klassenarbeit/
END:VEVENT
END:VCALENDAR