BEGIN:VCALENDAR
VERSION:2.0
PRODID:-//Konrad-Adenauer-Gymnasium - ECPv6.15.16//NONSGML v1.0//EN
CALSCALE:GREGORIAN
METHOD:PUBLISH
X-ORIGINAL-URL:https://adenauer-bonn.de
X-WR-CALDESC:Veranstaltungen für Konrad-Adenauer-Gymnasium
REFRESH-INTERVAL;VALUE=DURATION:PT1H
X-Robots-Tag:noindex
X-PUBLISHED-TTL:PT1H
BEGIN:VTIMEZONE
TZID:Europe/Berlin
BEGIN:DAYLIGHT
TZOFFSETFROM:+0100
TZOFFSETTO:+0200
TZNAME:CEST
DTSTART:20200329T010000
END:DAYLIGHT
BEGIN:STANDARD
TZOFFSETFROM:+0200
TZOFFSETTO:+0100
TZNAME:CET
DTSTART:20201025T010000
END:STANDARD
BEGIN:DAYLIGHT
TZOFFSETFROM:+0100
TZOFFSETTO:+0200
TZNAME:CEST
DTSTART:20210328T010000
END:DAYLIGHT
BEGIN:STANDARD
TZOFFSETFROM:+0200
TZOFFSETTO:+0100
TZNAME:CET
DTSTART:20211031T010000
END:STANDARD
BEGIN:DAYLIGHT
TZOFFSETFROM:+0100
TZOFFSETTO:+0200
TZNAME:CEST
DTSTART:20220327T010000
END:DAYLIGHT
BEGIN:STANDARD
TZOFFSETFROM:+0200
TZOFFSETTO:+0100
TZNAME:CET
DTSTART:20221030T010000
END:STANDARD
END:VTIMEZONE
BEGIN:VEVENT
DTSTART;VALUE=DATE:20211214
DTEND;VALUE=DATE:20211215
DTSTAMP:20260420T192348
CREATED:20210818T164953Z
LAST-MODIFIED:20210818T164953Z
UID:22136-1639440000-1639526399@adenauer-bonn.de
SUMMARY:7b Deutsch (SON)
DESCRIPTION:
URL:https://adenauer-bonn.de/termin/7b-deutsch-son-3/
END:VEVENT
BEGIN:VEVENT
DTSTART;VALUE=DATE:20211214
DTEND;VALUE=DATE:20211215
DTSTAMP:20260420T192348
CREATED:20211024T152054Z
LAST-MODIFIED:20211024T152054Z
UID:23535-1639440000-1639526399@adenauer-bonn.de
SUMMARY:6c Deutscharbeit 3
DESCRIPTION:
URL:https://adenauer-bonn.de/termin/6c-deutscharbeit-3/
END:VEVENT
BEGIN:VEVENT
DTSTART;VALUE=DATE:20211214
DTEND;VALUE=DATE:20211215
DTSTAMP:20260420T192348
CREATED:20211130T155732Z
LAST-MODIFIED:20211130T155732Z
UID:24600-1639440000-1639526399@adenauer-bonn.de
SUMMARY:Mathearbeit 9c
DESCRIPTION:
URL:https://adenauer-bonn.de/termin/mathearbeit-9c-3/
END:VEVENT
END:VCALENDAR