BEGIN:VCALENDAR
VERSION:2.0
PRODID:-//Konrad-Adenauer-Gymnasium - ECPv6.15.16//NONSGML v1.0//EN
CALSCALE:GREGORIAN
METHOD:PUBLISH
X-WR-CALNAME:Konrad-Adenauer-Gymnasium
X-ORIGINAL-URL:https://adenauer-bonn.de
X-WR-CALDESC:Veranstaltungen für Konrad-Adenauer-Gymnasium
REFRESH-INTERVAL;VALUE=DURATION:PT1H
X-Robots-Tag:noindex
X-PUBLISHED-TTL:PT1H
BEGIN:VTIMEZONE
TZID:Europe/Berlin
BEGIN:DAYLIGHT
TZOFFSETFROM:+0100
TZOFFSETTO:+0200
TZNAME:CEST
DTSTART:20200329T010000
END:DAYLIGHT
BEGIN:STANDARD
TZOFFSETFROM:+0200
TZOFFSETTO:+0100
TZNAME:CET
DTSTART:20201025T010000
END:STANDARD
BEGIN:DAYLIGHT
TZOFFSETFROM:+0100
TZOFFSETTO:+0200
TZNAME:CEST
DTSTART:20210328T010000
END:DAYLIGHT
BEGIN:STANDARD
TZOFFSETFROM:+0200
TZOFFSETTO:+0100
TZNAME:CET
DTSTART:20211031T010000
END:STANDARD
BEGIN:DAYLIGHT
TZOFFSETFROM:+0100
TZOFFSETTO:+0200
TZNAME:CEST
DTSTART:20220327T010000
END:DAYLIGHT
BEGIN:STANDARD
TZOFFSETFROM:+0200
TZOFFSETTO:+0100
TZNAME:CET
DTSTART:20221030T010000
END:STANDARD
END:VTIMEZONE
BEGIN:VEVENT
DTSTART;VALUE=DATE:20211220
DTEND;VALUE=DATE:20211221
DTSTAMP:20260420T180524
CREATED:20210827T132728Z
LAST-MODIFIED:20210827T132728Z
UID:22210-1639958400-1640044799@adenauer-bonn.de
SUMMARY:E 5b Nr.3 STA
DESCRIPTION:
URL:https://adenauer-bonn.de/termin/e-5b-nr-3-sta/
END:VEVENT
BEGIN:VEVENT
DTSTART;VALUE=DATE:20211220
DTEND;VALUE=DATE:20211221
DTSTAMP:20260420T180524
CREATED:20210930T064007Z
LAST-MODIFIED:20210930T064007Z
UID:22599-1639958400-1640044799@adenauer-bonn.de
SUMMARY:2. Mathearbeit 9c
DESCRIPTION:
URL:https://adenauer-bonn.de/termin/2-mathearbeit-9c/
END:VEVENT
BEGIN:VEVENT
DTSTART;VALUE=DATE:20211220
DTEND;VALUE=DATE:20211221
DTSTAMP:20260420T180524
CREATED:20211026T113722Z
LAST-MODIFIED:20211026T113722Z
UID:23550-1639958400-1640044799@adenauer-bonn.de
SUMMARY:2.Deutscharbeit 9b
DESCRIPTION:
URL:https://adenauer-bonn.de/termin/2-deutscharbeit-9b/
END:VEVENT
BEGIN:VEVENT
DTSTART;VALUE=DATE:20211220
DTEND;VALUE=DATE:20211221
DTSTAMP:20260420T180524
CREATED:20211101T165710Z
LAST-MODIFIED:20211101T165710Z
UID:23604-1639958400-1640044799@adenauer-bonn.de
SUMMARY:7b Englisch 3. Klassenarbeit
DESCRIPTION:
URL:https://adenauer-bonn.de/termin/7b-englisch-3-klassenarbeit/
END:VEVENT
BEGIN:VEVENT
DTSTART;TZID=Europe/Berlin:20211220T080000
DTEND;TZID=Europe/Berlin:20211220T170000
DTSTAMP:20260420T180524
CREATED:20211005T152323Z
LAST-MODIFIED:20211005T152323Z
UID:23487-1639987200-1640019600@adenauer-bonn.de
SUMMARY:5a Englisch 3. Klassenarbeit
DESCRIPTION:
URL:https://adenauer-bonn.de/termin/5a-englisch-3-klassenarbeit-2/
END:VEVENT
BEGIN:VEVENT
DTSTART;TZID=Europe/Berlin:20211220T080000
DTEND;TZID=Europe/Berlin:20211220T170000
DTSTAMP:20260420T180524
CREATED:20211005T152559Z
LAST-MODIFIED:20211005T155747Z
UID:23491-1639987200-1640019600@adenauer-bonn.de
SUMMARY:7a Englisch 3. Klassenarbeit
DESCRIPTION:
URL:https://adenauer-bonn.de/termin/7a-englisch-3-klassenarbeit/
END:VEVENT
END:VCALENDAR