BEGIN:VCALENDAR
VERSION:2.0
PRODID:-//Konrad-Adenauer-Gymnasium - ECPv6.15.16//NONSGML v1.0//EN
CALSCALE:GREGORIAN
METHOD:PUBLISH
X-WR-CALNAME:Konrad-Adenauer-Gymnasium
X-ORIGINAL-URL:https://adenauer-bonn.de
X-WR-CALDESC:Veranstaltungen für Konrad-Adenauer-Gymnasium
REFRESH-INTERVAL;VALUE=DURATION:PT1H
X-Robots-Tag:noindex
X-PUBLISHED-TTL:PT1H
BEGIN:VTIMEZONE
TZID:Europe/Berlin
BEGIN:DAYLIGHT
TZOFFSETFROM:+0100
TZOFFSETTO:+0200
TZNAME:CEST
DTSTART:20200329T010000
END:DAYLIGHT
BEGIN:STANDARD
TZOFFSETFROM:+0200
TZOFFSETTO:+0100
TZNAME:CET
DTSTART:20201025T010000
END:STANDARD
BEGIN:DAYLIGHT
TZOFFSETFROM:+0100
TZOFFSETTO:+0200
TZNAME:CEST
DTSTART:20210328T010000
END:DAYLIGHT
BEGIN:STANDARD
TZOFFSETFROM:+0200
TZOFFSETTO:+0100
TZNAME:CET
DTSTART:20211031T010000
END:STANDARD
BEGIN:DAYLIGHT
TZOFFSETFROM:+0100
TZOFFSETTO:+0200
TZNAME:CEST
DTSTART:20220327T010000
END:DAYLIGHT
BEGIN:STANDARD
TZOFFSETFROM:+0200
TZOFFSETTO:+0100
TZNAME:CET
DTSTART:20221030T010000
END:STANDARD
END:VTIMEZONE
BEGIN:VEVENT
DTSTART;VALUE=DATE:20211223
DTEND;VALUE=DATE:20211224
DTSTAMP:20260420T161911
CREATED:20211114T203705Z
LAST-MODIFIED:20211114T203705Z
UID:23734-1640217600-1640303999@adenauer-bonn.de
SUMMARY:Klasse 9a Mathe
DESCRIPTION:
URL:https://adenauer-bonn.de/termin/klasse-9a-mathe-3/
END:VEVENT
BEGIN:VEVENT
DTSTART;VALUE=DATE:20211223
DTEND;VALUE=DATE:20211224
DTSTAMP:20260420T161911
CREATED:20211208T101742Z
LAST-MODIFIED:20211208T101805Z
UID:24690-1640217600-1640303999@adenauer-bonn.de
SUMMARY:Weihnachtskino in der Aula (Stufe 7)
DESCRIPTION:Es wird in der 3. und 4. Stunde der Film „Kevin allein zu Haus“ gezeigt.
URL:https://adenauer-bonn.de/termin/weihnachtskino-in-der-aula-stufe-7/
END:VEVENT
END:VCALENDAR