BEGIN:VCALENDAR
VERSION:2.0
PRODID:-//Konrad-Adenauer-Gymnasium - ECPv6.15.16//NONSGML v1.0//EN
CALSCALE:GREGORIAN
METHOD:PUBLISH
X-ORIGINAL-URL:https://adenauer-bonn.de
X-WR-CALDESC:Veranstaltungen für Konrad-Adenauer-Gymnasium
REFRESH-INTERVAL;VALUE=DURATION:PT1H
X-Robots-Tag:noindex
X-PUBLISHED-TTL:PT1H
BEGIN:VTIMEZONE
TZID:Europe/Berlin
BEGIN:DAYLIGHT
TZOFFSETFROM:+0100
TZOFFSETTO:+0200
TZNAME:CEST
DTSTART:20210328T010000
END:DAYLIGHT
BEGIN:STANDARD
TZOFFSETFROM:+0200
TZOFFSETTO:+0100
TZNAME:CET
DTSTART:20211031T010000
END:STANDARD
BEGIN:DAYLIGHT
TZOFFSETFROM:+0100
TZOFFSETTO:+0200
TZNAME:CEST
DTSTART:20220327T010000
END:DAYLIGHT
BEGIN:STANDARD
TZOFFSETFROM:+0200
TZOFFSETTO:+0100
TZNAME:CET
DTSTART:20221030T010000
END:STANDARD
BEGIN:DAYLIGHT
TZOFFSETFROM:+0100
TZOFFSETTO:+0200
TZNAME:CEST
DTSTART:20230326T010000
END:DAYLIGHT
BEGIN:STANDARD
TZOFFSETFROM:+0200
TZOFFSETTO:+0100
TZNAME:CET
DTSTART:20231029T010000
END:STANDARD
END:VTIMEZONE
BEGIN:VEVENT
DTSTART;VALUE=DATE:20220113
DTEND;VALUE=DATE:20220114
DTSTAMP:20260420T122236
CREATED:20210825T152520Z
LAST-MODIFIED:20210825T152520Z
UID:22167-1642032000-1642118399@adenauer-bonn.de
SUMMARY:Mathematik 8a (STE)
DESCRIPTION:
URL:https://adenauer-bonn.de/termin/mathematik-8a-ste-3/
END:VEVENT
BEGIN:VEVENT
DTSTART;VALUE=DATE:20220113
DTEND;VALUE=DATE:20220114
DTSTAMP:20260420T122236
CREATED:20210825T152823Z
LAST-MODIFIED:20210825T152823Z
UID:22173-1642032000-1642118399@adenauer-bonn.de
SUMMARY:Mathematik 7a (STE)
DESCRIPTION:
URL:https://adenauer-bonn.de/termin/mathematik-7a-ste-3/
END:VEVENT
BEGIN:VEVENT
DTSTART;VALUE=DATE:20220113
DTEND;VALUE=DATE:20220114
DTSTAMP:20260420T122236
CREATED:20210902T115237Z
LAST-MODIFIED:20210902T115237Z
UID:22402-1642032000-1642118399@adenauer-bonn.de
SUMMARY:M 8c HOH
DESCRIPTION:
URL:https://adenauer-bonn.de/termin/m-8c-hoh-3/
END:VEVENT
BEGIN:VEVENT
DTSTART;VALUE=DATE:20220113
DTEND;VALUE=DATE:20220114
DTSTAMP:20260420T122236
CREATED:20211130T123456Z
LAST-MODIFIED:20211130T123456Z
UID:24597-1642032000-1642118399@adenauer-bonn.de
SUMMARY:5b Deutscharbeit
DESCRIPTION:
URL:https://adenauer-bonn.de/termin/5b-deutscharbeit-2/
END:VEVENT
BEGIN:VEVENT
DTSTART;VALUE=DATE:20220113
DTEND;VALUE=DATE:20220114
DTSTAMP:20260420T122236
CREATED:20211130T195006Z
LAST-MODIFIED:20211130T195006Z
UID:24602-1642032000-1642118399@adenauer-bonn.de
SUMMARY:5a Deutscharbeit
DESCRIPTION:
URL:https://adenauer-bonn.de/termin/5a-deutscharbeit-2/
END:VEVENT
BEGIN:VEVENT
DTSTART;VALUE=DATE:20220113
DTEND;VALUE=DATE:20220114
DTSTAMP:20260420T122236
CREATED:20211130T195031Z
LAST-MODIFIED:20211130T195031Z
UID:24604-1642032000-1642118399@adenauer-bonn.de
SUMMARY:5c Deutscharbeit
DESCRIPTION:
URL:https://adenauer-bonn.de/termin/5c-deutscharbeit/
END:VEVENT
BEGIN:VEVENT
DTSTART;TZID=Europe/Berlin:20220113T080000
DTEND;TZID=Europe/Berlin:20220113T170000
DTSTAMP:20260420T122236
CREATED:20211103T112449Z
LAST-MODIFIED:20211212T091648Z
UID:23625-1642060800-1642093200@adenauer-bonn.de
SUMMARY:6b Deutscharbeit
DESCRIPTION:
URL:https://adenauer-bonn.de/termin/6b-deutscharbeit/
END:VEVENT
BEGIN:VEVENT
DTSTART;TZID=Europe/Berlin:20220113T080000
DTEND;TZID=Europe/Berlin:20220113T170000
DTSTAMP:20260420T122236
CREATED:20211201T143354Z
LAST-MODIFIED:20211201T143354Z
UID:24614-1642060800-1642093200@adenauer-bonn.de
SUMMARY:Mathe 8b - 3
DESCRIPTION:
URL:https://adenauer-bonn.de/termin/mathe-8b-3/
END:VEVENT
END:VCALENDAR