BEGIN:VCALENDAR
VERSION:2.0
PRODID:-//Konrad-Adenauer-Gymnasium - ECPv6.15.20//NONSGML v1.0//EN
CALSCALE:GREGORIAN
METHOD:PUBLISH
X-ORIGINAL-URL:https://adenauer-bonn.de
X-WR-CALDESC:Veranstaltungen für Konrad-Adenauer-Gymnasium
REFRESH-INTERVAL;VALUE=DURATION:PT1H
X-Robots-Tag:noindex
X-PUBLISHED-TTL:PT1H
BEGIN:VTIMEZONE
TZID:Europe/Berlin
BEGIN:DAYLIGHT
TZOFFSETFROM:+0100
TZOFFSETTO:+0200
TZNAME:CEST
DTSTART:20240331T010000
END:DAYLIGHT
BEGIN:STANDARD
TZOFFSETFROM:+0200
TZOFFSETTO:+0100
TZNAME:CET
DTSTART:20241027T010000
END:STANDARD
BEGIN:DAYLIGHT
TZOFFSETFROM:+0100
TZOFFSETTO:+0200
TZNAME:CEST
DTSTART:20250330T010000
END:DAYLIGHT
BEGIN:STANDARD
TZOFFSETFROM:+0200
TZOFFSETTO:+0100
TZNAME:CET
DTSTART:20251026T010000
END:STANDARD
BEGIN:DAYLIGHT
TZOFFSETFROM:+0100
TZOFFSETTO:+0200
TZNAME:CEST
DTSTART:20260329T010000
END:DAYLIGHT
BEGIN:STANDARD
TZOFFSETFROM:+0200
TZOFFSETTO:+0100
TZNAME:CET
DTSTART:20261025T010000
END:STANDARD
END:VTIMEZONE
BEGIN:VEVENT
DTSTART;VALUE=DATE:20250603
DTEND;VALUE=DATE:20250604
DTSTAMP:20260425T162500
CREATED:20250211T132253Z
LAST-MODIFIED:20250211T132253Z
UID:32469-1748908800-1748995199@adenauer-bonn.de
SUMMARY:Klassenarbeit Französisch 8ac STG
DESCRIPTION:
URL:https://adenauer-bonn.de/termin/klassenarbeit-franzoesisch-8ac-stg/
END:VEVENT
BEGIN:VEVENT
DTSTART;TZID=Europe/Berlin:20250603T080000
DTEND;TZID=Europe/Berlin:20250603T103000
DTSTAMP:20260425T162500
CREATED:20250425T123141Z
LAST-MODIFIED:20250425T123141Z
UID:32863-1748937600-1748946600@adenauer-bonn.de
SUMMARY:9c De KRA
DESCRIPTION:
URL:https://adenauer-bonn.de/termin/9c-de-kra-3/
END:VEVENT
END:VCALENDAR