BEGIN:VCALENDAR
VERSION:2.0
PRODID:-//Konrad-Adenauer-Gymnasium - ECPv6.15.20//NONSGML v1.0//EN
CALSCALE:GREGORIAN
METHOD:PUBLISH
X-ORIGINAL-URL:https://adenauer-bonn.de
X-WR-CALDESC:Veranstaltungen für Konrad-Adenauer-Gymnasium
REFRESH-INTERVAL;VALUE=DURATION:PT1H
X-Robots-Tag:noindex
X-PUBLISHED-TTL:PT1H
BEGIN:VTIMEZONE
TZID:Europe/Berlin
BEGIN:DAYLIGHT
TZOFFSETFROM:+0100
TZOFFSETTO:+0200
TZNAME:CEST
DTSTART:20240331T010000
END:DAYLIGHT
BEGIN:STANDARD
TZOFFSETFROM:+0200
TZOFFSETTO:+0100
TZNAME:CET
DTSTART:20241027T010000
END:STANDARD
BEGIN:DAYLIGHT
TZOFFSETFROM:+0100
TZOFFSETTO:+0200
TZNAME:CEST
DTSTART:20250330T010000
END:DAYLIGHT
BEGIN:STANDARD
TZOFFSETFROM:+0200
TZOFFSETTO:+0100
TZNAME:CET
DTSTART:20251026T010000
END:STANDARD
BEGIN:DAYLIGHT
TZOFFSETFROM:+0100
TZOFFSETTO:+0200
TZNAME:CEST
DTSTART:20260329T010000
END:DAYLIGHT
BEGIN:STANDARD
TZOFFSETFROM:+0200
TZOFFSETTO:+0100
TZNAME:CET
DTSTART:20261025T010000
END:STANDARD
END:VTIMEZONE
BEGIN:VEVENT
DTSTART;VALUE=DATE:20250604
DTEND;VALUE=DATE:20250605
DTSTAMP:20260425T145426
CREATED:20250202T181139Z
LAST-MODIFIED:20250202T181139Z
UID:32185-1748995200-1749081599@adenauer-bonn.de
SUMMARY:E 6c STA
DESCRIPTION:
URL:https://adenauer-bonn.de/termin/e-6c-sta-5/
END:VEVENT
BEGIN:VEVENT
DTSTART;VALUE=DATE:20250604
DTEND;VALUE=DATE:20250605
DTSTAMP:20260425T145426
CREATED:20250204T075434Z
LAST-MODIFIED:20250522T084706Z
UID:32227-1748995200-1749081599@adenauer-bonn.de
SUMMARY:9b M STE
DESCRIPTION:
URL:https://adenauer-bonn.de/termin/9b-m-ste-4/
END:VEVENT
BEGIN:VEVENT
DTSTART;VALUE=DATE:20250604
DTEND;VALUE=DATE:20250605
DTSTAMP:20260425T145426
CREATED:20250204T075854Z
LAST-MODIFIED:20250206T193258Z
UID:32229-1748995200-1749081599@adenauer-bonn.de
SUMMARY:8a M STE
DESCRIPTION:
URL:https://adenauer-bonn.de/termin/8a-m-ste-3/
END:VEVENT
BEGIN:VEVENT
DTSTART;VALUE=DATE:20250604
DTEND;VALUE=DATE:20250605
DTSTAMP:20260425T145426
CREATED:20250304T091515Z
LAST-MODIFIED:20250511T201143Z
UID:32626-1748995200-1749081599@adenauer-bonn.de
SUMMARY:M 8b HOH
DESCRIPTION:
URL:https://adenauer-bonn.de/termin/m-8b-hoh-2/
END:VEVENT
BEGIN:VEVENT
DTSTART;VALUE=DATE:20250604
DTEND;VALUE=DATE:20250605
DTSTAMP:20260425T145426
CREATED:20250428T073301Z
LAST-MODIFIED:20250428T073549Z
UID:32879-1748995200-1749081599@adenauer-bonn.de
SUMMARY:7a Deutsch
DESCRIPTION:Argumention
URL:https://adenauer-bonn.de/termin/7a-deutsch/
END:VEVENT
BEGIN:VEVENT
DTSTART;VALUE=DATE:20250604
DTEND;VALUE=DATE:20250605
DTSTAMP:20260425T145426
CREATED:20250501T144645Z
LAST-MODIFIED:20250501T144645Z
UID:32912-1748995200-1749081599@adenauer-bonn.de
SUMMARY:6b M (NON)
DESCRIPTION:
URL:https://adenauer-bonn.de/termin/6b-m-non-2/
END:VEVENT
BEGIN:VEVENT
DTSTART;VALUE=DATE:20250604
DTEND;VALUE=DATE:20250605
DTSTAMP:20260425T145426
CREATED:20250515T211400Z
LAST-MODIFIED:20250515T211400Z
UID:33078-1748995200-1749081599@adenauer-bonn.de
SUMMARY:7b Deutsch (SON)
DESCRIPTION:
URL:https://adenauer-bonn.de/termin/7b-deutsch-son-6/
END:VEVENT
END:VCALENDAR