BEGIN:VCALENDAR
VERSION:2.0
PRODID:-//Konrad-Adenauer-Gymnasium - ECPv6.15.20//NONSGML v1.0//EN
CALSCALE:GREGORIAN
METHOD:PUBLISH
X-ORIGINAL-URL:https://adenauer-bonn.de
X-WR-CALDESC:Veranstaltungen für Konrad-Adenauer-Gymnasium
REFRESH-INTERVAL;VALUE=DURATION:PT1H
X-Robots-Tag:noindex
X-PUBLISHED-TTL:PT1H
BEGIN:VTIMEZONE
TZID:Europe/Berlin
BEGIN:DAYLIGHT
TZOFFSETFROM:+0100
TZOFFSETTO:+0200
TZNAME:CEST
DTSTART:20240331T010000
END:DAYLIGHT
BEGIN:STANDARD
TZOFFSETFROM:+0200
TZOFFSETTO:+0100
TZNAME:CET
DTSTART:20241027T010000
END:STANDARD
BEGIN:DAYLIGHT
TZOFFSETFROM:+0100
TZOFFSETTO:+0200
TZNAME:CEST
DTSTART:20250330T010000
END:DAYLIGHT
BEGIN:STANDARD
TZOFFSETFROM:+0200
TZOFFSETTO:+0100
TZNAME:CET
DTSTART:20251026T010000
END:STANDARD
BEGIN:DAYLIGHT
TZOFFSETFROM:+0100
TZOFFSETTO:+0200
TZNAME:CEST
DTSTART:20260329T010000
END:DAYLIGHT
BEGIN:STANDARD
TZOFFSETFROM:+0200
TZOFFSETTO:+0100
TZNAME:CET
DTSTART:20261025T010000
END:STANDARD
END:VTIMEZONE
BEGIN:VEVENT
DTSTART;VALUE=DATE:20250606
DTEND;VALUE=DATE:20250607
DTSTAMP:20260425T162356
CREATED:20250219T115612Z
LAST-MODIFIED:20250219T115612Z
UID:32559-1749168000-1749254399@adenauer-bonn.de
SUMMARY:5b Englisch Klassenarbeit Nr. 6 BIR
DESCRIPTION:
URL:https://adenauer-bonn.de/termin/5b-englisch-klassenarbeit-nr-6-bir/
END:VEVENT
BEGIN:VEVENT
DTSTART;VALUE=DATE:20250606
DTEND;VALUE=DATE:20250607
DTSTAMP:20260425T162356
CREATED:20250501T144058Z
LAST-MODIFIED:20250501T144058Z
UID:32910-1749168000-1749254399@adenauer-bonn.de
SUMMARY:7a M (NON)
DESCRIPTION:
URL:https://adenauer-bonn.de/termin/7a-m-non-3/
END:VEVENT
BEGIN:VEVENT
DTSTART;VALUE=DATE:20250606
DTEND;VALUE=DATE:20250607
DTSTAMP:20260425T162356
CREATED:20250524T170702Z
LAST-MODIFIED:20250531T141235Z
UID:33123-1749168000-1749254399@adenauer-bonn.de
SUMMARY:8a Physiktest
DESCRIPTION:
URL:https://adenauer-bonn.de/termin/8a-physiktest-oder-freitag-7-6/
END:VEVENT
END:VCALENDAR