BEGIN:VCALENDAR
VERSION:2.0
PRODID:-//Konrad-Adenauer-Gymnasium - ECPv6.15.20//NONSGML v1.0//EN
CALSCALE:GREGORIAN
METHOD:PUBLISH
X-WR-CALNAME:Konrad-Adenauer-Gymnasium
X-ORIGINAL-URL:https://adenauer-bonn.de
X-WR-CALDESC:Veranstaltungen für Konrad-Adenauer-Gymnasium
REFRESH-INTERVAL;VALUE=DURATION:PT1H
X-Robots-Tag:noindex
X-PUBLISHED-TTL:PT1H
BEGIN:VTIMEZONE
TZID:Europe/Berlin
BEGIN:DAYLIGHT
TZOFFSETFROM:+0100
TZOFFSETTO:+0200
TZNAME:CEST
DTSTART:20240331T010000
END:DAYLIGHT
BEGIN:STANDARD
TZOFFSETFROM:+0200
TZOFFSETTO:+0100
TZNAME:CET
DTSTART:20241027T010000
END:STANDARD
BEGIN:DAYLIGHT
TZOFFSETFROM:+0100
TZOFFSETTO:+0200
TZNAME:CEST
DTSTART:20250330T010000
END:DAYLIGHT
BEGIN:STANDARD
TZOFFSETFROM:+0200
TZOFFSETTO:+0100
TZNAME:CET
DTSTART:20251026T010000
END:STANDARD
BEGIN:DAYLIGHT
TZOFFSETFROM:+0100
TZOFFSETTO:+0200
TZNAME:CEST
DTSTART:20260329T010000
END:DAYLIGHT
BEGIN:STANDARD
TZOFFSETFROM:+0200
TZOFFSETTO:+0100
TZNAME:CET
DTSTART:20261025T010000
END:STANDARD
END:VTIMEZONE
BEGIN:VEVENT
DTSTART;VALUE=DATE:20250613
DTEND;VALUE=DATE:20250614
DTSTAMP:20260425T145254
CREATED:20250304T092545Z
LAST-MODIFIED:20250524T123042Z
UID:32632-1749772800-1749859199@adenauer-bonn.de
SUMMARY:M 6a HOH
DESCRIPTION:
URL:https://adenauer-bonn.de/termin/m-6a-hoh-7/
END:VEVENT
BEGIN:VEVENT
DTSTART;VALUE=DATE:20250613
DTEND;VALUE=DATE:20250614
DTSTAMP:20260425T145254
CREATED:20250505T082141Z
LAST-MODIFIED:20250520T092530Z
UID:32930-1749772800-1749859199@adenauer-bonn.de
SUMMARY:8c 4. Klassenarbeit Englisch (VTH)
DESCRIPTION:
URL:https://adenauer-bonn.de/termin/8c-4-klassenarbeit-englisch-vth/
END:VEVENT
BEGIN:VEVENT
DTSTART;VALUE=DATE:20250613
DTEND;VALUE=DATE:20250614
DTSTAMP:20260425T145254
CREATED:20250515T145646Z
LAST-MODIFIED:20250515T145646Z
UID:33071-1749772800-1749859199@adenauer-bonn.de
SUMMARY:7B Voktest
DESCRIPTION:TB p. 226: catalogue -> p. 229: sort
URL:https://adenauer-bonn.de/termin/7b-voktest-2/
END:VEVENT
BEGIN:VEVENT
DTSTART;VALUE=DATE:20250613
DTEND;VALUE=DATE:20250614
DTSTAMP:20260425T145254
CREATED:20250522T064313Z
LAST-MODIFIED:20250522T064313Z
UID:33104-1749772800-1749859199@adenauer-bonn.de
SUMMARY:7c M BAR
DESCRIPTION:
URL:https://adenauer-bonn.de/termin/7c-m-bar/
END:VEVENT
BEGIN:VEVENT
DTSTART;VALUE=DATE:20250613
DTEND;VALUE=DATE:20250614
DTSTAMP:20260425T145254
CREATED:20250530T092318Z
LAST-MODIFIED:20250530T092318Z
UID:33170-1749772800-1749859199@adenauer-bonn.de
SUMMARY:5a Biologie Test Kel
DESCRIPTION:
URL:https://adenauer-bonn.de/termin/5a-biologie-test-kel/
END:VEVENT
BEGIN:VEVENT
DTSTART;TZID=Europe/Berlin:20250613T100000
DTEND;TZID=Europe/Berlin:20250613T113000
DTSTAMP:20260425T145254
CREATED:20250425T123539Z
LAST-MODIFIED:20250425T123539Z
UID:32865-1749808800-1749814200@adenauer-bonn.de
SUMMARY:8a De KRA
DESCRIPTION:
URL:https://adenauer-bonn.de/termin/8a-de-kra/
END:VEVENT
BEGIN:VEVENT
DTSTART;TZID=Europe/Berlin:20250613T123000
DTEND;TZID=Europe/Berlin:20250613T133000
DTSTAMP:20260425T145254
CREATED:20250508T073533Z
LAST-MODIFIED:20250508T074041Z
UID:32994-1749817800-1749821400@adenauer-bonn.de
SUMMARY:8b Englisch GTT
DESCRIPTION:
URL:https://adenauer-bonn.de/termin/8b-englisch-gtt/
END:VEVENT
END:VCALENDAR