BEGIN:VCALENDAR
VERSION:2.0
PRODID:-//Konrad-Adenauer-Gymnasium - ECPv6.15.20//NONSGML v1.0//EN
CALSCALE:GREGORIAN
METHOD:PUBLISH
X-ORIGINAL-URL:https://adenauer-bonn.de
X-WR-CALDESC:Veranstaltungen für Konrad-Adenauer-Gymnasium
REFRESH-INTERVAL;VALUE=DURATION:PT1H
X-Robots-Tag:noindex
X-PUBLISHED-TTL:PT1H
BEGIN:VTIMEZONE
TZID:Europe/Berlin
BEGIN:DAYLIGHT
TZOFFSETFROM:+0100
TZOFFSETTO:+0200
TZNAME:CEST
DTSTART:20240331T010000
END:DAYLIGHT
BEGIN:STANDARD
TZOFFSETFROM:+0200
TZOFFSETTO:+0100
TZNAME:CET
DTSTART:20241027T010000
END:STANDARD
BEGIN:DAYLIGHT
TZOFFSETFROM:+0100
TZOFFSETTO:+0200
TZNAME:CEST
DTSTART:20250330T010000
END:DAYLIGHT
BEGIN:STANDARD
TZOFFSETFROM:+0200
TZOFFSETTO:+0100
TZNAME:CET
DTSTART:20251026T010000
END:STANDARD
BEGIN:DAYLIGHT
TZOFFSETFROM:+0100
TZOFFSETTO:+0200
TZNAME:CEST
DTSTART:20260329T010000
END:DAYLIGHT
BEGIN:STANDARD
TZOFFSETFROM:+0200
TZOFFSETTO:+0100
TZNAME:CET
DTSTART:20261025T010000
END:STANDARD
END:VTIMEZONE
BEGIN:VEVENT
DTSTART;VALUE=DATE:20250618
DTEND;VALUE=DATE:20250619
DTSTAMP:20260425T162407
CREATED:20250429T111547Z
LAST-MODIFIED:20250429T111641Z
UID:32890-1750204800-1750291199@adenauer-bonn.de
SUMMARY:6b Englisch Nr.6
DESCRIPTION:
URL:https://adenauer-bonn.de/termin/6b-deutsch-nr-6/
END:VEVENT
BEGIN:VEVENT
DTSTART;VALUE=DATE:20250618
DTEND;VALUE=DATE:20250619
DTSTAMP:20260425T162407
CREATED:20250505T082846Z
LAST-MODIFIED:20250605T120613Z
UID:32939-1750204800-1750291199@adenauer-bonn.de
SUMMARY:5a - 6. Klassenarbeit Englisch (VTH)
DESCRIPTION:
URL:https://adenauer-bonn.de/termin/5a-6-klassenarbeit-englisch-vth/
END:VEVENT
BEGIN:VEVENT
DTSTART;VALUE=DATE:20250618
DTEND;VALUE=DATE:20250619
DTSTAMP:20260425T162407
CREATED:20250519T190018Z
LAST-MODIFIED:20250614T145731Z
UID:33095-1750204800-1750291199@adenauer-bonn.de
SUMMARY:Mathearbeit 5b (GRL)
DESCRIPTION:
URL:https://adenauer-bonn.de/termin/mathearbeit-5b-grl/
END:VEVENT
BEGIN:VEVENT
DTSTART;VALUE=DATE:20250618
DTEND;VALUE=DATE:20250619
DTSTAMP:20260425T162407
CREATED:20250524T135157Z
LAST-MODIFIED:20250524T135157Z
UID:33120-1750204800-1750291199@adenauer-bonn.de
SUMMARY:7c Englisch Mündliche Prüfung OFF/BIE
DESCRIPTION:
URL:https://adenauer-bonn.de/termin/7c-englisch-muendliche-pruefung-off-bie/
END:VEVENT
BEGIN:VEVENT
DTSTART;VALUE=DATE:20250618
DTEND;VALUE=DATE:20250619
DTSTAMP:20260425T162407
CREATED:20250318T192920Z
LAST-MODIFIED:20250318T192920Z
UID:32751-1750204800-1750291199@adenauer-bonn.de
SUMMARY:Projekttag Selbstwirsamkeit 8abc
DESCRIPTION:
URL:https://adenauer-bonn.de/termin/projekttag-selbstwirsamkeit-8abc/
END:VEVENT
END:VCALENDAR