BEGIN:VCALENDAR
VERSION:2.0
PRODID:-//Konrad-Adenauer-Gymnasium - ECPv6.15.20//NONSGML v1.0//EN
CALSCALE:GREGORIAN
METHOD:PUBLISH
X-ORIGINAL-URL:https://adenauer-bonn.de
X-WR-CALDESC:Veranstaltungen für Konrad-Adenauer-Gymnasium
REFRESH-INTERVAL;VALUE=DURATION:PT1H
X-Robots-Tag:noindex
X-PUBLISHED-TTL:PT1H
BEGIN:VTIMEZONE
TZID:Europe/Berlin
BEGIN:DAYLIGHT
TZOFFSETFROM:+0100
TZOFFSETTO:+0200
TZNAME:CEST
DTSTART:20240331T010000
END:DAYLIGHT
BEGIN:STANDARD
TZOFFSETFROM:+0200
TZOFFSETTO:+0100
TZNAME:CET
DTSTART:20241027T010000
END:STANDARD
BEGIN:DAYLIGHT
TZOFFSETFROM:+0100
TZOFFSETTO:+0200
TZNAME:CEST
DTSTART:20250330T010000
END:DAYLIGHT
BEGIN:STANDARD
TZOFFSETFROM:+0200
TZOFFSETTO:+0100
TZNAME:CET
DTSTART:20251026T010000
END:STANDARD
BEGIN:DAYLIGHT
TZOFFSETFROM:+0100
TZOFFSETTO:+0200
TZNAME:CEST
DTSTART:20260329T010000
END:DAYLIGHT
BEGIN:STANDARD
TZOFFSETFROM:+0200
TZOFFSETTO:+0100
TZNAME:CET
DTSTART:20261025T010000
END:STANDARD
END:VTIMEZONE
BEGIN:VEVENT
DTSTART;VALUE=DATE:20250624
DTEND;VALUE=DATE:20250625
DTSTAMP:20260425T162406
CREATED:20250505T082357Z
LAST-MODIFIED:20250505T082357Z
UID:32935-1750723200-1750809599@adenauer-bonn.de
SUMMARY:9a 4. Klassenarbeit (BRU)
DESCRIPTION:
URL:https://adenauer-bonn.de/termin/9a-4-klassenarbeit-bru/
END:VEVENT
BEGIN:VEVENT
DTSTART;VALUE=DATE:20250624
DTEND;VALUE=DATE:20250625
DTSTAMP:20260425T162406
CREATED:20250505T082445Z
LAST-MODIFIED:20250505T082445Z
UID:32937-1750723200-1750809599@adenauer-bonn.de
SUMMARY:9b 4. Klassenarbeit Englisch (VTH)
DESCRIPTION:
URL:https://adenauer-bonn.de/termin/9b-4-klassenarbeit-englisch-vth/
END:VEVENT
BEGIN:VEVENT
DTSTART;VALUE=DATE:20250624
DTEND;VALUE=DATE:20250625
DTSTAMP:20260425T162406
CREATED:20250505T110435Z
LAST-MODIFIED:20250505T110435Z
UID:32953-1750723200-1750809599@adenauer-bonn.de
SUMMARY:7b Frz. CYP mdl. Prüfung
DESCRIPTION:
URL:https://adenauer-bonn.de/termin/7b-frz-cyp-mdl-pruefung/
END:VEVENT
BEGIN:VEVENT
DTSTART;VALUE=DATE:20250624
DTEND;VALUE=DATE:20250625
DTSTAMP:20260425T162406
CREATED:20250519T125308Z
LAST-MODIFIED:20250519T125401Z
UID:33091-1750723200-1750809599@adenauer-bonn.de
SUMMARY:Lat 7abc Goe
DESCRIPTION:
URL:https://adenauer-bonn.de/termin/lat-7abc-goe-2/
END:VEVENT
BEGIN:VEVENT
DTSTART;VALUE=DATE:20250624
DTEND;VALUE=DATE:20250625
DTSTAMP:20260425T162406
CREATED:20250519T193345Z
LAST-MODIFIED:20250519T193345Z
UID:33101-1750723200-1750809599@adenauer-bonn.de
SUMMARY:7a Französisch mündliche Prüfung
DESCRIPTION:
URL:https://adenauer-bonn.de/termin/7a-franzoesisch-muendliche-pruefung/
END:VEVENT
END:VCALENDAR