BEGIN:VCALENDAR
VERSION:2.0
PRODID:-//Konrad-Adenauer-Gymnasium - ECPv6.15.16//NONSGML v1.0//EN
CALSCALE:GREGORIAN
METHOD:PUBLISH
X-WR-CALNAME:Konrad-Adenauer-Gymnasium
X-ORIGINAL-URL:https://adenauer-bonn.de
X-WR-CALDESC:Veranstaltungen für Konrad-Adenauer-Gymnasium
REFRESH-INTERVAL;VALUE=DURATION:PT1H
X-Robots-Tag:noindex
X-PUBLISHED-TTL:PT1H
BEGIN:VTIMEZONE
TZID:Europe/Berlin
BEGIN:DAYLIGHT
TZOFFSETFROM:+0100
TZOFFSETTO:+0200
TZNAME:CEST
DTSTART:20250330T010000
END:DAYLIGHT
BEGIN:STANDARD
TZOFFSETFROM:+0200
TZOFFSETTO:+0100
TZNAME:CET
DTSTART:20251026T010000
END:STANDARD
BEGIN:DAYLIGHT
TZOFFSETFROM:+0100
TZOFFSETTO:+0200
TZNAME:CEST
DTSTART:20260329T010000
END:DAYLIGHT
BEGIN:STANDARD
TZOFFSETFROM:+0200
TZOFFSETTO:+0100
TZNAME:CET
DTSTART:20261025T010000
END:STANDARD
BEGIN:DAYLIGHT
TZOFFSETFROM:+0100
TZOFFSETTO:+0200
TZNAME:CEST
DTSTART:20270328T010000
END:DAYLIGHT
BEGIN:STANDARD
TZOFFSETFROM:+0200
TZOFFSETTO:+0100
TZNAME:CET
DTSTART:20271031T010000
END:STANDARD
END:VTIMEZONE
BEGIN:VEVENT
DTSTART;VALUE=DATE:20260420
DTEND;VALUE=DATE:20260421
DTSTAMP:20260420T131511
CREATED:20260210T220238Z
LAST-MODIFIED:20260210T220238Z
UID:35533-1776643200-1776729599@adenauer-bonn.de
SUMMARY:8a Englisch mdl. Prüfung  JUH
DESCRIPTION:
URL:https://adenauer-bonn.de/termin/8a-englisch-mdl-pruefung-juh/
END:VEVENT
BEGIN:VEVENT
DTSTART;VALUE=DATE:20260420
DTEND;VALUE=DATE:20260421
DTSTAMP:20260420T131511
CREATED:20260325T110345Z
LAST-MODIFIED:20260325T110345Z
UID:35933-1776643200-1776729599@adenauer-bonn.de
SUMMARY:Stadtmeisterschaften Stufe 5-7 MZL
DESCRIPTION:
URL:https://adenauer-bonn.de/termin/stadtmeisterschaften-stufe-5-7-mzl/
END:VEVENT
BEGIN:VEVENT
DTSTART;VALUE=DATE:20260420
DTEND;VALUE=DATE:20260421
DTSTAMP:20260420T131511
CREATED:20260325T141452Z
LAST-MODIFIED:20260325T141452Z
UID:35935-1776643200-1776729599@adenauer-bonn.de
SUMMARY:Exkursion Klasse 6a
DESCRIPTION:
URL:https://adenauer-bonn.de/termin/exkursion-klasse-6a/
END:VEVENT
BEGIN:VEVENT
DTSTART;VALUE=DATE:20260420
DTEND;VALUE=DATE:20260421
DTSTAMP:20260420T131511
CREATED:20260327T074001Z
LAST-MODIFIED:20260327T074001Z
UID:35938-1776643200-1776729599@adenauer-bonn.de
SUMMARY:8b Englisch
DESCRIPTION:
URL:https://adenauer-bonn.de/termin/8b-englisch-2/
END:VEVENT
BEGIN:VEVENT
DTSTART;VALUE=DATE:20260420
DTEND;VALUE=DATE:20260421
DTSTAMP:20260420T131511
CREATED:20260413T082917Z
LAST-MODIFIED:20260417T103517Z
UID:35989-1776643200-1776729599@adenauer-bonn.de
SUMMARY:5c E Vok.Test MUL
DESCRIPTION:
URL:https://adenauer-bonn.de/termin/5c-e-vok-test-mul/
END:VEVENT
END:VCALENDAR