BEGIN:VCALENDAR
VERSION:2.0
PRODID:-//Konrad-Adenauer-Gymnasium - ECPv6.15.16//NONSGML v1.0//EN
CALSCALE:GREGORIAN
METHOD:PUBLISH
X-WR-CALNAME:Konrad-Adenauer-Gymnasium
X-ORIGINAL-URL:https://adenauer-bonn.de
X-WR-CALDESC:Veranstaltungen für Konrad-Adenauer-Gymnasium
REFRESH-INTERVAL;VALUE=DURATION:PT1H
X-Robots-Tag:noindex
X-PUBLISHED-TTL:PT1H
BEGIN:VTIMEZONE
TZID:Europe/Berlin
BEGIN:DAYLIGHT
TZOFFSETFROM:+0100
TZOFFSETTO:+0200
TZNAME:CEST
DTSTART:20250330T010000
END:DAYLIGHT
BEGIN:STANDARD
TZOFFSETFROM:+0200
TZOFFSETTO:+0100
TZNAME:CET
DTSTART:20251026T010000
END:STANDARD
BEGIN:DAYLIGHT
TZOFFSETFROM:+0100
TZOFFSETTO:+0200
TZNAME:CEST
DTSTART:20260329T010000
END:DAYLIGHT
BEGIN:STANDARD
TZOFFSETFROM:+0200
TZOFFSETTO:+0100
TZNAME:CET
DTSTART:20261025T010000
END:STANDARD
BEGIN:DAYLIGHT
TZOFFSETFROM:+0100
TZOFFSETTO:+0200
TZNAME:CEST
DTSTART:20270328T010000
END:DAYLIGHT
BEGIN:STANDARD
TZOFFSETFROM:+0200
TZOFFSETTO:+0100
TZNAME:CET
DTSTART:20271031T010000
END:STANDARD
END:VTIMEZONE
BEGIN:VEVENT
DTSTART;VALUE=DATE:20260505
DTEND;VALUE=DATE:20260506
DTSTAMP:20260420T192846
CREATED:20260209T175724Z
LAST-MODIFIED:20260209T175845Z
UID:35508-1777939200-1778025599@adenauer-bonn.de
SUMMARY:5a Englisch Vokabeltest (10)
DESCRIPTION:
URL:https://adenauer-bonn.de/termin/5a-englisch-vokabeltest-11/
END:VEVENT
BEGIN:VEVENT
DTSTART;VALUE=DATE:20260505
DTEND;VALUE=DATE:20260506
DTSTAMP:20260420T192846
CREATED:20260319T133214Z
LAST-MODIFIED:20260319T133214Z
UID:35912-1777939200-1778025599@adenauer-bonn.de
SUMMARY:6a - 5. Klassenarbeit Englisch
DESCRIPTION:
URL:https://adenauer-bonn.de/termin/6a-5-klassenarbeit-englisch/
END:VEVENT
BEGIN:VEVENT
DTSTART;VALUE=DATE:20260505
DTEND;VALUE=DATE:20260506
DTSTAMP:20260420T192846
CREATED:20260413T132532Z
LAST-MODIFIED:20260413T132532Z
UID:35993-1777939200-1778025599@adenauer-bonn.de
SUMMARY:Biotest 8B
DESCRIPTION:
URL:https://adenauer-bonn.de/termin/biotest-8b-3/
END:VEVENT
BEGIN:VEVENT
DTSTART;VALUE=DATE:20260505
DTEND;VALUE=DATE:20260506
DTSTAMP:20260420T192846
CREATED:20260203T150443Z
LAST-MODIFIED:20260309T114448Z
UID:35260-1777939200-1778025599@adenauer-bonn.de
SUMMARY:Mathe 7c (SON)
DESCRIPTION:
URL:https://adenauer-bonn.de/termin/mathe-7c-son-6/
END:VEVENT
END:VCALENDAR