BEGIN:VCALENDAR
VERSION:2.0
PRODID:-//Konrad-Adenauer-Gymnasium - ECPv6.15.20//NONSGML v1.0//EN
CALSCALE:GREGORIAN
METHOD:PUBLISH
X-ORIGINAL-URL:https://adenauer-bonn.de
X-WR-CALDESC:Veranstaltungen für Konrad-Adenauer-Gymnasium
REFRESH-INTERVAL;VALUE=DURATION:PT1H
X-Robots-Tag:noindex
X-PUBLISHED-TTL:PT1H
BEGIN:VTIMEZONE
TZID:Europe/Berlin
BEGIN:DAYLIGHT
TZOFFSETFROM:+0100
TZOFFSETTO:+0200
TZNAME:CEST
DTSTART:20250330T010000
END:DAYLIGHT
BEGIN:STANDARD
TZOFFSETFROM:+0200
TZOFFSETTO:+0100
TZNAME:CET
DTSTART:20251026T010000
END:STANDARD
BEGIN:DAYLIGHT
TZOFFSETFROM:+0100
TZOFFSETTO:+0200
TZNAME:CEST
DTSTART:20260329T010000
END:DAYLIGHT
BEGIN:STANDARD
TZOFFSETFROM:+0200
TZOFFSETTO:+0100
TZNAME:CET
DTSTART:20261025T010000
END:STANDARD
BEGIN:DAYLIGHT
TZOFFSETFROM:+0100
TZOFFSETTO:+0200
TZNAME:CEST
DTSTART:20270328T010000
END:DAYLIGHT
BEGIN:STANDARD
TZOFFSETFROM:+0200
TZOFFSETTO:+0100
TZNAME:CET
DTSTART:20271031T010000
END:STANDARD
END:VTIMEZONE
BEGIN:VEVENT
DTSTART;VALUE=DATE:20260518
DTEND;VALUE=DATE:20260519
DTSTAMP:20260422T114557
CREATED:20251214T150223Z
LAST-MODIFIED:20251214T150223Z
UID:35021-1779062400-1779148799@adenauer-bonn.de
SUMMARY:Spanienaustausch Klasse 9 in Spanien: 17.5. - 22.5.2026
DESCRIPTION:
URL:https://adenauer-bonn.de/termin/spanienaustausch-klasse-9-in-spanien-17-5-22-5-2026/
END:VEVENT
BEGIN:VEVENT
DTSTART;VALUE=DATE:20260518
DTEND;VALUE=DATE:20260519
DTSTAMP:20260422T114557
CREATED:20260209T175939Z
LAST-MODIFIED:20260209T175939Z
UID:35510-1779062400-1779148799@adenauer-bonn.de
SUMMARY:5a Englisch Vokabeltest (11)
DESCRIPTION:
URL:https://adenauer-bonn.de/termin/5a-englisch-vokabeltest-11-2/
END:VEVENT
BEGIN:VEVENT
DTSTART;VALUE=DATE:20260518
DTEND;VALUE=DATE:20260519
DTSTAMP:20260422T114557
CREATED:20260210T215954Z
LAST-MODIFIED:20260210T215954Z
UID:35531-1779062400-1779148799@adenauer-bonn.de
SUMMARY:8a mdl. E-JUH
DESCRIPTION:
URL:https://adenauer-bonn.de/termin/8a-mdl-e-juh/
END:VEVENT
END:VCALENDAR