BEGIN:VCALENDAR
VERSION:2.0
PRODID:-//Konrad-Adenauer-Gymnasium - ECPv6.15.16//NONSGML v1.0//EN
CALSCALE:GREGORIAN
METHOD:PUBLISH
X-ORIGINAL-URL:https://adenauer-bonn.de
X-WR-CALDESC:Veranstaltungen für Konrad-Adenauer-Gymnasium
REFRESH-INTERVAL;VALUE=DURATION:PT1H
X-Robots-Tag:noindex
X-PUBLISHED-TTL:PT1H
BEGIN:VTIMEZONE
TZID:Europe/Berlin
BEGIN:DAYLIGHT
TZOFFSETFROM:+0100
TZOFFSETTO:+0200
TZNAME:CEST
DTSTART:20250330T010000
END:DAYLIGHT
BEGIN:STANDARD
TZOFFSETFROM:+0200
TZOFFSETTO:+0100
TZNAME:CET
DTSTART:20251026T010000
END:STANDARD
BEGIN:DAYLIGHT
TZOFFSETFROM:+0100
TZOFFSETTO:+0200
TZNAME:CEST
DTSTART:20260329T010000
END:DAYLIGHT
BEGIN:STANDARD
TZOFFSETFROM:+0200
TZOFFSETTO:+0100
TZNAME:CET
DTSTART:20261025T010000
END:STANDARD
BEGIN:DAYLIGHT
TZOFFSETFROM:+0100
TZOFFSETTO:+0200
TZNAME:CEST
DTSTART:20270328T010000
END:DAYLIGHT
BEGIN:STANDARD
TZOFFSETFROM:+0200
TZOFFSETTO:+0100
TZNAME:CET
DTSTART:20271031T010000
END:STANDARD
END:VTIMEZONE
BEGIN:VEVENT
DTSTART;VALUE=DATE:20260610
DTEND;VALUE=DATE:20260611
DTSTAMP:20260420T163714
CREATED:20250825T192313Z
LAST-MODIFIED:20260206T130744Z
UID:33821-1781049600-1781135999@adenauer-bonn.de
SUMMARY:8a Englisch-4 JUH
DESCRIPTION:
URL:https://adenauer-bonn.de/termin/8a-englisch-oral-exam/
END:VEVENT
BEGIN:VEVENT
DTSTART;VALUE=DATE:20260610
DTEND;VALUE=DATE:20260614
DTSTAMP:20260420T163714
CREATED:20260114T100601Z
LAST-MODIFIED:20260114T100601Z
UID:35117-1781049600-1781395199@adenauer-bonn.de
SUMMARY:Kanu-Fahrt\, AG-Kinder Klassen 5-7
DESCRIPTION:
URL:https://adenauer-bonn.de/termin/kanu-fahrt-ag-kinder-klassen-5-7/
END:VEVENT
BEGIN:VEVENT
DTSTART;VALUE=DATE:20260610
DTEND;VALUE=DATE:20260611
DTSTAMP:20260420T163714
CREATED:20260208T212459Z
LAST-MODIFIED:20260208T212459Z
UID:35413-1781049600-1781135999@adenauer-bonn.de
SUMMARY:10 Differenzierung
DESCRIPTION:
URL:https://adenauer-bonn.de/termin/10-differenzierung-2/
END:VEVENT
BEGIN:VEVENT
DTSTART;VALUE=DATE:20260610
DTEND;VALUE=DATE:20260611
DTSTAMP:20260420T163714
CREATED:20260319T133520Z
LAST-MODIFIED:20260319T133520Z
UID:35914-1781049600-1781135999@adenauer-bonn.de
SUMMARY:9c Englisch 4. Klassenarbeit (VTH)
DESCRIPTION:
URL:https://adenauer-bonn.de/termin/9c-englisch-4-klassenarbeit-vth/
END:VEVENT
BEGIN:VEVENT
DTSTART;TZID=Europe/Berlin:20260610T080000
DTEND;TZID=Europe/Berlin:20260610T170000
DTSTAMP:20260420T163714
CREATED:20250915T163847Z
LAST-MODIFIED:20250915T163847Z
UID:34246-1781078400-1781110800@adenauer-bonn.de
SUMMARY:Projekttag Selbstwirksamkeit 8b
DESCRIPTION:
URL:https://adenauer-bonn.de/termin/projekttag-selbstwirksamkeit-8b/
END:VEVENT
BEGIN:VEVENT
DTSTART;TZID=Europe/Berlin:20260610T095000
DTEND;TZID=Europe/Berlin:20260610T113000
DTSTAMP:20260420T163714
CREATED:20260204T160235Z
LAST-MODIFIED:20260204T160235Z
UID:35310-1781085000-1781091000@adenauer-bonn.de
SUMMARY:KA 8C KRA
DESCRIPTION:
URL:https://adenauer-bonn.de/termin/ka-8c-kra/
END:VEVENT
END:VCALENDAR