BEGIN:VCALENDAR
VERSION:2.0
PRODID:-//Konrad-Adenauer-Gymnasium - ECPv6.15.16//NONSGML v1.0//EN
CALSCALE:GREGORIAN
METHOD:PUBLISH
X-WR-CALNAME:Konrad-Adenauer-Gymnasium
X-ORIGINAL-URL:https://adenauer-bonn.de
X-WR-CALDESC:Veranstaltungen für Konrad-Adenauer-Gymnasium
REFRESH-INTERVAL;VALUE=DURATION:PT1H
X-Robots-Tag:noindex
X-PUBLISHED-TTL:PT1H
BEGIN:VTIMEZONE
TZID:Europe/Berlin
BEGIN:DAYLIGHT
TZOFFSETFROM:+0100
TZOFFSETTO:+0200
TZNAME:CEST
DTSTART:20250330T010000
END:DAYLIGHT
BEGIN:STANDARD
TZOFFSETFROM:+0200
TZOFFSETTO:+0100
TZNAME:CET
DTSTART:20251026T010000
END:STANDARD
BEGIN:DAYLIGHT
TZOFFSETFROM:+0100
TZOFFSETTO:+0200
TZNAME:CEST
DTSTART:20260329T010000
END:DAYLIGHT
BEGIN:STANDARD
TZOFFSETFROM:+0200
TZOFFSETTO:+0100
TZNAME:CET
DTSTART:20261025T010000
END:STANDARD
BEGIN:DAYLIGHT
TZOFFSETFROM:+0100
TZOFFSETTO:+0200
TZNAME:CEST
DTSTART:20270328T010000
END:DAYLIGHT
BEGIN:STANDARD
TZOFFSETFROM:+0200
TZOFFSETTO:+0100
TZNAME:CET
DTSTART:20271031T010000
END:STANDARD
END:VTIMEZONE
BEGIN:VEVENT
DTSTART;VALUE=DATE:20260610
DTEND;VALUE=DATE:20260614
DTSTAMP:20260420T180403
CREATED:20260114T100601Z
LAST-MODIFIED:20260114T100601Z
UID:35117-1781049600-1781395199@adenauer-bonn.de
SUMMARY:Kanu-Fahrt\, AG-Kinder Klassen 5-7
DESCRIPTION:
URL:https://adenauer-bonn.de/termin/kanu-fahrt-ag-kinder-klassen-5-7/
END:VEVENT
BEGIN:VEVENT
DTSTART;VALUE=DATE:20260611
DTEND;VALUE=DATE:20260612
DTSTAMP:20260420T180403
CREATED:20250825T191301Z
LAST-MODIFIED:20250825T191301Z
UID:33815-1781136000-1781222399@adenauer-bonn.de
SUMMARY:8a Englisch-4
DESCRIPTION:
URL:https://adenauer-bonn.de/termin/8a-englisch-4/
END:VEVENT
BEGIN:VEVENT
DTSTART;VALUE=DATE:20260611
DTEND;VALUE=DATE:20260612
DTSTAMP:20260420T180403
CREATED:20260114T173840Z
LAST-MODIFIED:20260419T071126Z
UID:35145-1781136000-1781222399@adenauer-bonn.de
SUMMARY:F10b STA No 4 mdl. Prüfung
DESCRIPTION:
URL:https://adenauer-bonn.de/termin/f10b-sta-no-4/
END:VEVENT
BEGIN:VEVENT
DTSTART;VALUE=DATE:20260611
DTEND;VALUE=DATE:20260612
DTSTAMP:20260420T180403
CREATED:20260208T123629Z
LAST-MODIFIED:20260208T123629Z
UID:35398-1781136000-1781222399@adenauer-bonn.de
SUMMARY:Theaterbesuch PP-Kurse Jg. 7
DESCRIPTION:
URL:https://adenauer-bonn.de/termin/theaterbesuch-pp-kurse-jg-7/
END:VEVENT
BEGIN:VEVENT
DTSTART;VALUE=DATE:20260611
DTEND;VALUE=DATE:20260612
DTSTAMP:20260420T180403
CREATED:20260209T173500Z
LAST-MODIFIED:20260306T175540Z
UID:35494-1781136000-1781222399@adenauer-bonn.de
SUMMARY:6b Klassenarbeit Englisch Nr. 6
DESCRIPTION:
URL:https://adenauer-bonn.de/termin/6b-klassenarbeit-englisch-nr-6/
END:VEVENT
BEGIN:VEVENT
DTSTART;VALUE=DATE:20260611
DTEND;VALUE=DATE:20260612
DTSTAMP:20260420T180403
CREATED:20260412T065325Z
LAST-MODIFIED:20260412T065325Z
UID:35966-1781136000-1781222399@adenauer-bonn.de
SUMMARY:Mathe 5a (SON)
DESCRIPTION:
URL:https://adenauer-bonn.de/termin/mathe-5a-son-6/
END:VEVENT
BEGIN:VEVENT
DTSTART;TZID=Europe/Berlin:20260611T080000
DTEND;TZID=Europe/Berlin:20260611T170000
DTSTAMP:20260420T180403
CREATED:20250915T163931Z
LAST-MODIFIED:20250915T163931Z
UID:34248-1781164800-1781197200@adenauer-bonn.de
SUMMARY:Projekttag Selbstwirksamkeit 8c
DESCRIPTION:
URL:https://adenauer-bonn.de/termin/projekttag-selbstwirksamkeit-8c/
END:VEVENT
END:VCALENDAR