BEGIN:VCALENDAR
VERSION:2.0
PRODID:-//Konrad-Adenauer-Gymnasium - ECPv6.15.16//NONSGML v1.0//EN
CALSCALE:GREGORIAN
METHOD:PUBLISH
X-ORIGINAL-URL:https://adenauer-bonn.de
X-WR-CALDESC:Veranstaltungen für Konrad-Adenauer-Gymnasium
REFRESH-INTERVAL;VALUE=DURATION:PT1H
X-Robots-Tag:noindex
X-PUBLISHED-TTL:PT1H
BEGIN:VTIMEZONE
TZID:Europe/Berlin
BEGIN:DAYLIGHT
TZOFFSETFROM:+0100
TZOFFSETTO:+0200
TZNAME:CEST
DTSTART:20250330T010000
END:DAYLIGHT
BEGIN:STANDARD
TZOFFSETFROM:+0200
TZOFFSETTO:+0100
TZNAME:CET
DTSTART:20251026T010000
END:STANDARD
BEGIN:DAYLIGHT
TZOFFSETFROM:+0100
TZOFFSETTO:+0200
TZNAME:CEST
DTSTART:20260329T010000
END:DAYLIGHT
BEGIN:STANDARD
TZOFFSETFROM:+0200
TZOFFSETTO:+0100
TZNAME:CET
DTSTART:20261025T010000
END:STANDARD
BEGIN:DAYLIGHT
TZOFFSETFROM:+0100
TZOFFSETTO:+0200
TZNAME:CEST
DTSTART:20270328T010000
END:DAYLIGHT
BEGIN:STANDARD
TZOFFSETFROM:+0200
TZOFFSETTO:+0100
TZNAME:CET
DTSTART:20271031T010000
END:STANDARD
END:VTIMEZONE
BEGIN:VEVENT
DTSTART;VALUE=DATE:20260623
DTEND;VALUE=DATE:20260624
DTSTAMP:20260420T163704
CREATED:20260206T200831Z
LAST-MODIFIED:20260206T200831Z
UID:35391-1782172800-1782259199@adenauer-bonn.de
SUMMARY:6c M HOH
DESCRIPTION:
URL:https://adenauer-bonn.de/termin/6c-m-hoh-3/
END:VEVENT
BEGIN:VEVENT
DTSTART;VALUE=DATE:20260623
DTEND;VALUE=DATE:20260624
DTSTAMP:20260420T163704
CREATED:20260210T090052Z
LAST-MODIFIED:20260210T090052Z
UID:35523-1782172800-1782259199@adenauer-bonn.de
SUMMARY:Mündliche Prüfung Französisch 7b VEL
DESCRIPTION:
URL:https://adenauer-bonn.de/termin/muendliche-pruefung-franzoesisch-7b-vel/
END:VEVENT
BEGIN:VEVENT
DTSTART;VALUE=DATE:20260623
DTEND;VALUE=DATE:20260624
DTSTAMP:20260420T163704
CREATED:20260319T133823Z
LAST-MODIFIED:20260319T133823Z
UID:35917-1782172800-1782259199@adenauer-bonn.de
SUMMARY:6a - Englisch - 6. KA (VTH)
DESCRIPTION:
URL:https://adenauer-bonn.de/termin/6a-englisch-6-ka-vth/
END:VEVENT
BEGIN:VEVENT
DTSTART;VALUE=DATE:20260623
DTEND;VALUE=DATE:20260624
DTSTAMP:20260420T163704
CREATED:20260413T082648Z
LAST-MODIFIED:20260413T082648Z
UID:35987-1782172800-1782259199@adenauer-bonn.de
SUMMARY:KA 5c E MUL
DESCRIPTION:
URL:https://adenauer-bonn.de/termin/ka-5c-e-mul/
END:VEVENT
BEGIN:VEVENT
DTSTART;VALUE=DATE:20260623
DTEND;VALUE=DATE:20260624
DTSTAMP:20260420T163704
CREATED:20260203T150606Z
LAST-MODIFIED:20260412T065459Z
UID:35262-1782172800-1782259199@adenauer-bonn.de
SUMMARY:Mathe 7c (SON)
DESCRIPTION:
URL:https://adenauer-bonn.de/termin/mathe-7c-son-7/
END:VEVENT
END:VCALENDAR