BEGIN:VCALENDAR
VERSION:2.0
PRODID:-//Konrad-Adenauer-Gymnasium - ECPv6.15.20//NONSGML v1.0//EN
CALSCALE:GREGORIAN
METHOD:PUBLISH
X-ORIGINAL-URL:https://adenauer-bonn.de
X-WR-CALDESC:Veranstaltungen für Konrad-Adenauer-Gymnasium
REFRESH-INTERVAL;VALUE=DURATION:PT1H
X-Robots-Tag:noindex
X-PUBLISHED-TTL:PT1H
BEGIN:VTIMEZONE
TZID:Europe/Berlin
BEGIN:DAYLIGHT
TZOFFSETFROM:+0100
TZOFFSETTO:+0200
TZNAME:CEST
DTSTART:20250330T010000
END:DAYLIGHT
BEGIN:STANDARD
TZOFFSETFROM:+0200
TZOFFSETTO:+0100
TZNAME:CET
DTSTART:20251026T010000
END:STANDARD
BEGIN:DAYLIGHT
TZOFFSETFROM:+0100
TZOFFSETTO:+0200
TZNAME:CEST
DTSTART:20260329T010000
END:DAYLIGHT
BEGIN:STANDARD
TZOFFSETFROM:+0200
TZOFFSETTO:+0100
TZNAME:CET
DTSTART:20261025T010000
END:STANDARD
BEGIN:DAYLIGHT
TZOFFSETFROM:+0100
TZOFFSETTO:+0200
TZNAME:CEST
DTSTART:20270328T010000
END:DAYLIGHT
BEGIN:STANDARD
TZOFFSETFROM:+0200
TZOFFSETTO:+0100
TZNAME:CET
DTSTART:20271031T010000
END:STANDARD
END:VTIMEZONE
BEGIN:VEVENT
DTSTART;VALUE=DATE:20260422
DTEND;VALUE=DATE:20260423
DTSTAMP:20260422T161645
CREATED:20260204T141550Z
LAST-MODIFIED:20260204T141550Z
UID:35299-1776816000-1776902399@adenauer-bonn.de
SUMMARY:Französischarbeit 7ac STG
DESCRIPTION:
URL:https://adenauer-bonn.de/termin/franzoesischarbeit-7ac-stg-3/
END:VEVENT
BEGIN:VEVENT
DTSTART;VALUE=DATE:20260422
DTEND;VALUE=DATE:20260423
DTSTAMP:20260422T161645
CREATED:20260305T073215Z
LAST-MODIFIED:20260306T071825Z
UID:35859-1776816000-1776902399@adenauer-bonn.de
SUMMARY:Besuch Römervilla Latein 7
DESCRIPTION:
URL:https://adenauer-bonn.de/termin/besuch-roemervilla-latein-7/
END:VEVENT
BEGIN:VEVENT
DTSTART;VALUE=DATE:20260422
DTEND;VALUE=DATE:20260423
DTSTAMP:20260422T161645
CREATED:20260422T133016Z
LAST-MODIFIED:20260422T133016Z
UID:36056-1776816000-1776902399@adenauer-bonn.de
SUMMARY:5B Vokabeltest
DESCRIPTION:TB p. 214: fun -> p. 216: say hello
URL:https://adenauer-bonn.de/termin/5b-vokabeltest-2/
END:VEVENT
BEGIN:VEVENT
DTSTART;VALUE=DATE:20260423
DTEND;VALUE=DATE:20260424
DTSTAMP:20260422T161645
CREATED:20260121T141228Z
LAST-MODIFIED:20260121T141228Z
UID:35170-1776902400-1776988799@adenauer-bonn.de
SUMMARY:Girls' und Boys' Day (Zukunftstag)
DESCRIPTION:
URL:https://adenauer-bonn.de/termin/girls-und-boys-day-zukunftstag/
END:VEVENT
BEGIN:VEVENT
DTSTART;VALUE=DATE:20260423
DTEND;VALUE=DATE:20260424
DTSTAMP:20260422T161645
CREATED:20260415T122144Z
LAST-MODIFIED:20260415T122144Z
UID:36007-1776902400-1776988799@adenauer-bonn.de
SUMMARY:D\,5B\,STR
DESCRIPTION:
URL:https://adenauer-bonn.de/termin/d5bstr-4/
END:VEVENT
BEGIN:VEVENT
DTSTART;VALUE=DATE:20260424
DTEND;VALUE=DATE:20260425
DTSTAMP:20260422T161645
CREATED:20260209T173006Z
LAST-MODIFIED:20260414T145732Z
UID:35487-1776988800-1777075199@adenauer-bonn.de
SUMMARY:6b - Englischarbeit Nr. 5
DESCRIPTION:
URL:https://adenauer-bonn.de/termin/6b-englischarbeit-nr-5/
END:VEVENT
BEGIN:VEVENT
DTSTART;VALUE=DATE:20260424
DTEND;VALUE=DATE:20260425
DTSTAMP:20260422T161645
CREATED:20260323T121301Z
LAST-MODIFIED:20260323T121325Z
UID:35925-1776988800-1777075199@adenauer-bonn.de
SUMMARY:8c Mathematik
DESCRIPTION:Dreiecke\, Vierecke\, Flächen\, Umfang etc.
URL:https://adenauer-bonn.de/termin/8c-mathematik-3/
END:VEVENT
BEGIN:VEVENT
DTSTART;VALUE=DATE:20260424
DTEND;VALUE=DATE:20260425
DTSTAMP:20260422T161645
CREATED:20260408T173941Z
LAST-MODIFIED:20260408T173941Z
UID:35942-1776988800-1777075199@adenauer-bonn.de
SUMMARY:6c PH-Test HOH
DESCRIPTION:
URL:https://adenauer-bonn.de/termin/6c-ph-test-hoh/
END:VEVENT
BEGIN:VEVENT
DTSTART;VALUE=DATE:20260425
DTEND;VALUE=DATE:20260426
DTSTAMP:20260422T161645
CREATED:20260415T122001Z
LAST-MODIFIED:20260415T122001Z
UID:36004-1777075200-1777161599@adenauer-bonn.de
SUMMARY:D\,5B\,STR
DESCRIPTION:
URL:https://adenauer-bonn.de/termin/d5bstr/
END:VEVENT
BEGIN:VEVENT
DTSTART;VALUE=DATE:20260427
DTEND;VALUE=DATE:20260428
DTSTAMP:20260422T161645
CREATED:20260114T170839Z
LAST-MODIFIED:20260114T170839Z
UID:35131-1777248000-1777334399@adenauer-bonn.de
SUMMARY:QA
DESCRIPTION:
URL:https://adenauer-bonn.de/termin/qa/
END:VEVENT
BEGIN:VEVENT
DTSTART;VALUE=DATE:20260428
DTEND;VALUE=DATE:20260429
DTSTAMP:20260422T161645
CREATED:20260114T170906Z
LAST-MODIFIED:20260114T170906Z
UID:35133-1777334400-1777420799@adenauer-bonn.de
SUMMARY:QA
DESCRIPTION:
URL:https://adenauer-bonn.de/termin/qa-2/
END:VEVENT
BEGIN:VEVENT
DTSTART;VALUE=DATE:20260429
DTEND;VALUE=DATE:20260430
DTSTAMP:20260422T161645
CREATED:20260114T170931Z
LAST-MODIFIED:20260114T170931Z
UID:35135-1777420800-1777507199@adenauer-bonn.de
SUMMARY:QA
DESCRIPTION:
URL:https://adenauer-bonn.de/termin/qa-3/
END:VEVENT
BEGIN:VEVENT
DTSTART;VALUE=DATE:20260430
DTEND;VALUE=DATE:20260501
DTSTAMP:20260422T161645
CREATED:20260114T170956Z
LAST-MODIFIED:20260114T170956Z
UID:35137-1777507200-1777593599@adenauer-bonn.de
SUMMARY:QA
DESCRIPTION:
URL:https://adenauer-bonn.de/termin/qa-4/
END:VEVENT
BEGIN:VEVENT
DTSTART;VALUE=DATE:20260504
DTEND;VALUE=DATE:20260505
DTSTAMP:20260422T161645
CREATED:20260206T200417Z
LAST-MODIFIED:20260326T203906Z
UID:35382-1777852800-1777939199@adenauer-bonn.de
SUMMARY:7a M HOH
DESCRIPTION:
URL:https://adenauer-bonn.de/termin/7a-m-hoh-4/
END:VEVENT
BEGIN:VEVENT
DTSTART;VALUE=DATE:20260504
DTEND;VALUE=DATE:20260505
DTSTAMP:20260422T161645
CREATED:20260420T100337Z
LAST-MODIFIED:20260420T100428Z
UID:36020-1777852800-1777939199@adenauer-bonn.de
SUMMARY:Latein 8 BUE Leistungsüberprüfung
DESCRIPTION:
URL:https://adenauer-bonn.de/termin/leistungsueberpruefung-latein-8-bue/
END:VEVENT
BEGIN:VEVENT
DTSTART;VALUE=DATE:20260505
DTEND;VALUE=DATE:20260506
DTSTAMP:20260422T161645
CREATED:20260209T175724Z
LAST-MODIFIED:20260209T175845Z
UID:35508-1777939200-1778025599@adenauer-bonn.de
SUMMARY:5a Englisch Vokabeltest (10)
DESCRIPTION:
URL:https://adenauer-bonn.de/termin/5a-englisch-vokabeltest-11/
END:VEVENT
BEGIN:VEVENT
DTSTART;VALUE=DATE:20260505
DTEND;VALUE=DATE:20260506
DTSTAMP:20260422T161645
CREATED:20260319T133214Z
LAST-MODIFIED:20260319T133214Z
UID:35912-1777939200-1778025599@adenauer-bonn.de
SUMMARY:6a - 5. Klassenarbeit Englisch
DESCRIPTION:
URL:https://adenauer-bonn.de/termin/6a-5-klassenarbeit-englisch/
END:VEVENT
BEGIN:VEVENT
DTSTART;VALUE=DATE:20260505
DTEND;VALUE=DATE:20260506
DTSTAMP:20260422T161645
CREATED:20260413T132532Z
LAST-MODIFIED:20260413T132532Z
UID:35993-1777939200-1778025599@adenauer-bonn.de
SUMMARY:Biotest 8B
DESCRIPTION:
URL:https://adenauer-bonn.de/termin/biotest-8b-3/
END:VEVENT
BEGIN:VEVENT
DTSTART;VALUE=DATE:20260505
DTEND;VALUE=DATE:20260506
DTSTAMP:20260422T161645
CREATED:20260203T150443Z
LAST-MODIFIED:20260309T114448Z
UID:35260-1777939200-1778025599@adenauer-bonn.de
SUMMARY:Mathe 7c (SON)
DESCRIPTION:
URL:https://adenauer-bonn.de/termin/mathe-7c-son-6/
END:VEVENT
BEGIN:VEVENT
DTSTART;VALUE=DATE:20260506
DTEND;VALUE=DATE:20260507
DTSTAMP:20260422T161645
CREATED:20260213T121412Z
LAST-MODIFIED:20260213T121412Z
UID:35537-1778025600-1778111999@adenauer-bonn.de
SUMMARY:7 a\,b\,c Latein (ANK/GRE)
DESCRIPTION:
URL:https://adenauer-bonn.de/termin/7-abc-latein-ank-gre/
END:VEVENT
BEGIN:VEVENT
DTSTART;VALUE=DATE:20260506
DTEND;VALUE=DATE:20260507
DTSTAMP:20260422T161645
CREATED:20260415T092257Z
LAST-MODIFIED:20260415T092257Z
UID:36000-1778025600-1778111999@adenauer-bonn.de
SUMMARY:6c E OFF
DESCRIPTION:
URL:https://adenauer-bonn.de/termin/6c-e-off-2/
END:VEVENT
BEGIN:VEVENT
DTSTART;VALUE=DATE:20260506
DTEND;VALUE=DATE:20260514
DTSTAMP:20260422T161645
CREATED:20260422T120036Z
LAST-MODIFIED:20260422T120036Z
UID:36049-1778025600-1778716799@adenauer-bonn.de
SUMMARY:M 8c ANK
DESCRIPTION:Dreieicke\, Linien und Winkel im Dreieck\, Parallelogramme\, Trapeze und Vielecke
URL:https://adenauer-bonn.de/termin/m-8c-ank/
END:VEVENT
BEGIN:VEVENT
DTSTART;VALUE=DATE:20260506
DTEND;VALUE=DATE:20260507
DTSTAMP:20260422T161645
CREATED:20260422T132929Z
LAST-MODIFIED:20260422T132929Z
UID:36054-1778025600-1778111999@adenauer-bonn.de
SUMMARY:5B Vokabeltest
DESCRIPTION:TB p. 216: mean – TBp. 219: need to
URL:https://adenauer-bonn.de/termin/5b-vokabeltest/
END:VEVENT
BEGIN:VEVENT
DTSTART;VALUE=DATE:20260507
DTEND;VALUE=DATE:20260508
DTSTAMP:20260422T161645
CREATED:20260204T102550Z
LAST-MODIFIED:20260204T102550Z
UID:35281-1778112000-1778198399@adenauer-bonn.de
SUMMARY:M 5b BAR
DESCRIPTION:
URL:https://adenauer-bonn.de/termin/m-5b-bar-4/
END:VEVENT
BEGIN:VEVENT
DTSTART;VALUE=DATE:20260507
DTEND;VALUE=DATE:20260508
DTSTAMP:20260422T161645
CREATED:20260204T102833Z
LAST-MODIFIED:20260204T102833Z
UID:35287-1778112000-1778198399@adenauer-bonn.de
SUMMARY:M 5c BAR
DESCRIPTION:
URL:https://adenauer-bonn.de/termin/m-5c-bar-4/
END:VEVENT
BEGIN:VEVENT
DTSTART;VALUE=DATE:20260507
DTEND;VALUE=DATE:20260508
DTSTAMP:20260422T161645
CREATED:20260412T065218Z
LAST-MODIFIED:20260418T155740Z
UID:35960-1778112000-1778198399@adenauer-bonn.de
SUMMARY:Deutsch 5a (SON)
DESCRIPTION:
URL:https://adenauer-bonn.de/termin/mathe-5a-son-5/
END:VEVENT
BEGIN:VEVENT
DTSTART;VALUE=DATE:20260508
DTEND;VALUE=DATE:20260509
DTSTAMP:20260422T161645
CREATED:20260114T171100Z
LAST-MODIFIED:20260114T171100Z
UID:35139-1778198400-1778284799@adenauer-bonn.de
SUMMARY:Sponsorenlauf Kl. 5+6
DESCRIPTION:
URL:https://adenauer-bonn.de/termin/sponsorenlauf-kl-56/
END:VEVENT
BEGIN:VEVENT
DTSTART;VALUE=DATE:20260508
DTEND;VALUE=DATE:20260509
DTSTAMP:20260422T161645
CREATED:20260209T173207Z
LAST-MODIFIED:20260416T082039Z
UID:35490-1778198400-1778284799@adenauer-bonn.de
SUMMARY:6b Englisch Vokabeltest (11)
DESCRIPTION:
URL:https://adenauer-bonn.de/termin/6b-englisch-vokabeltest-10-2/
END:VEVENT
BEGIN:VEVENT
DTSTART;VALUE=DATE:20260511
DTEND;VALUE=DATE:20260512
DTSTAMP:20260422T161645
CREATED:20260412T065244Z
LAST-MODIFIED:20260418T155623Z
UID:35962-1778457600-1778543999@adenauer-bonn.de
SUMMARY:Mathe 5a (SON)
DESCRIPTION:
URL:https://adenauer-bonn.de/termin/deutsch-5a-son-5/
END:VEVENT
BEGIN:VEVENT
DTSTART;VALUE=DATE:20260511
DTEND;VALUE=DATE:20260512
DTSTAMP:20260422T161645
CREATED:20260413T072638Z
LAST-MODIFIED:20260413T072638Z
UID:35981-1778457600-1778543999@adenauer-bonn.de
SUMMARY:6abc D (SLR\, STR\, TPL)
DESCRIPTION:
URL:https://adenauer-bonn.de/termin/6abc-d-slr-str-tpl/
END:VEVENT
END:VCALENDAR