BEGIN:VCALENDAR
VERSION:2.0
PRODID:-//Konrad-Adenauer-Gymnasium - ECPv6.15.20//NONSGML v1.0//EN
CALSCALE:GREGORIAN
METHOD:PUBLISH
X-ORIGINAL-URL:https://adenauer-bonn.de
X-WR-CALDESC:Veranstaltungen für Konrad-Adenauer-Gymnasium
REFRESH-INTERVAL;VALUE=DURATION:PT1H
X-Robots-Tag:noindex
X-PUBLISHED-TTL:PT1H
BEGIN:VTIMEZONE
TZID:Europe/Berlin
BEGIN:DAYLIGHT
TZOFFSETFROM:+0100
TZOFFSETTO:+0200
TZNAME:CEST
DTSTART:20200329T010000
END:DAYLIGHT
BEGIN:STANDARD
TZOFFSETFROM:+0200
TZOFFSETTO:+0100
TZNAME:CET
DTSTART:20201025T010000
END:STANDARD
BEGIN:DAYLIGHT
TZOFFSETFROM:+0100
TZOFFSETTO:+0200
TZNAME:CEST
DTSTART:20210328T010000
END:DAYLIGHT
BEGIN:STANDARD
TZOFFSETFROM:+0200
TZOFFSETTO:+0100
TZNAME:CET
DTSTART:20211031T010000
END:STANDARD
BEGIN:DAYLIGHT
TZOFFSETFROM:+0100
TZOFFSETTO:+0200
TZNAME:CEST
DTSTART:20220327T010000
END:DAYLIGHT
BEGIN:STANDARD
TZOFFSETFROM:+0200
TZOFFSETTO:+0100
TZNAME:CET
DTSTART:20221030T010000
END:STANDARD
END:VTIMEZONE
BEGIN:VEVENT
DTSTART;VALUE=DATE:20210907
DTEND;VALUE=DATE:20210908
DTSTAMP:20260422T161931
CREATED:20210831T174433Z
LAST-MODIFIED:20210831T174433Z
UID:22374-1630972800-1631059199@adenauer-bonn.de
SUMMARY:Vokabeltest Französisch 7ab STG
DESCRIPTION:
URL:https://adenauer-bonn.de/termin/vokabeltest-franzoesisch-7ab-stg/
END:VEVENT
BEGIN:VEVENT
DTSTART;TZID=Europe/Berlin:20210907T080000
DTEND;TZID=Europe/Berlin:20210907T170000
DTSTAMP:20260422T161931
CREATED:20210829T095416Z
LAST-MODIFIED:20210829T095416Z
UID:22257-1631001600-1631034000@adenauer-bonn.de
SUMMARY:9C Vokabeltest
DESCRIPTION:
URL:https://adenauer-bonn.de/termin/9c-vokabeltest/
END:VEVENT
BEGIN:VEVENT
DTSTART;TZID=Europe/Berlin:20210907T080000
DTEND;TZID=Europe/Berlin:20210907T170000
DTSTAMP:20260422T161931
CREATED:20210831T133413Z
LAST-MODIFIED:20210831T133537Z
UID:22372-1631001600-1631034000@adenauer-bonn.de
SUMMARY:Feueralarm
DESCRIPTION:
URL:https://adenauer-bonn.de/termin/feueralarm/
END:VEVENT
BEGIN:VEVENT
DTSTART;TZID=Europe/Berlin:20210909T080000
DTEND;TZID=Europe/Berlin:20210909T170000
DTSTAMP:20260422T161931
CREATED:20210902T061709Z
LAST-MODIFIED:20210902T061709Z
UID:22391-1631174400-1631206800@adenauer-bonn.de
SUMMARY:7a Englisch Vokabeltest
DESCRIPTION:
URL:https://adenauer-bonn.de/termin/7a-englisch-vokabeltest/
END:VEVENT
BEGIN:VEVENT
DTSTART;TZID=Europe/Berlin:20210913T114500
DTEND;TZID=Europe/Berlin:20210913T132000
DTSTAMP:20260422T161931
CREATED:20210903T071244Z
LAST-MODIFIED:20210903T071244Z
UID:22411-1631533500-1631539200@adenauer-bonn.de
SUMMARY:5b Mathe (Des)
DESCRIPTION:
URL:https://adenauer-bonn.de/termin/5b-mathe-des/
LOCATION:Klassenraum
END:VEVENT
BEGIN:VEVENT
DTSTART;VALUE=DATE:20210914
DTEND;VALUE=DATE:20210915
DTSTAMP:20260422T161931
CREATED:20210906T090825Z
LAST-MODIFIED:20210906T090825Z
UID:22446-1631577600-1631663999@adenauer-bonn.de
SUMMARY:Vokabeltest 9a
DESCRIPTION:
URL:https://adenauer-bonn.de/termin/vokabeltest-9a-6/
END:VEVENT
BEGIN:VEVENT
DTSTART;TZID=Europe/Berlin:20210914T080000
DTEND;TZID=Europe/Berlin:20210914T170000
DTSTAMP:20260422T161931
CREATED:20210908T085011Z
LAST-MODIFIED:20210908T085011Z
UID:22473-1631606400-1631638800@adenauer-bonn.de
SUMMARY:Vokabeltest Englisch 5a
DESCRIPTION:
URL:https://adenauer-bonn.de/termin/vokabeltest-englisch-5a/
END:VEVENT
BEGIN:VEVENT
DTSTART;VALUE=DATE:20210915
DTEND;VALUE=DATE:20210916
DTSTAMP:20260422T161931
CREATED:20210818T165051Z
LAST-MODIFIED:20210818T165051Z
UID:22138-1631664000-1631750399@adenauer-bonn.de
SUMMARY:7b Mathe (SON)
DESCRIPTION:
URL:https://adenauer-bonn.de/termin/7b-mathe-son/
END:VEVENT
BEGIN:VEVENT
DTSTART;VALUE=DATE:20210915
DTEND;VALUE=DATE:20210916
DTSTAMP:20260422T161931
CREATED:20210818T165211Z
LAST-MODIFIED:20210818T165211Z
UID:22147-1631664000-1631750399@adenauer-bonn.de
SUMMARY:6b Mathe (SON)
DESCRIPTION:
URL:https://adenauer-bonn.de/termin/6b-mathe-son/
END:VEVENT
BEGIN:VEVENT
DTSTART;VALUE=DATE:20210915
DTEND;VALUE=DATE:20210916
DTSTAMP:20260422T161931
CREATED:20210829T181429Z
LAST-MODIFIED:20210829T181429Z
UID:22304-1631664000-1631750399@adenauer-bonn.de
SUMMARY:9 Lernstand Mathe 5./6. Stunde
DESCRIPTION:
URL:https://adenauer-bonn.de/termin/9-lernstand-mathe-5-6-stunde/
END:VEVENT
BEGIN:VEVENT
DTSTART;TZID=Europe/Berlin:20210915T080000
DTEND;TZID=Europe/Berlin:20210915T170000
DTSTAMP:20260422T161931
CREATED:20210908T155205Z
LAST-MODIFIED:20210908T155205Z
UID:22478-1631692800-1631725200@adenauer-bonn.de
SUMMARY:Mathematik 6C
DESCRIPTION:Klassenarbeit Brüche I. \nEine Themenübersicht wurde am 8.9.21 im Unterricht angegeben.
URL:https://adenauer-bonn.de/termin/mathematik-6c/
END:VEVENT
BEGIN:VEVENT
DTSTART;VALUE=DATE:20210916
DTEND;VALUE=DATE:20210917
DTSTAMP:20260422T161931
CREATED:20210829T095448Z
LAST-MODIFIED:20210909T161842Z
UID:22259-1631750400-1631836799@adenauer-bonn.de
SUMMARY:9C Vokabeltest
DESCRIPTION:
URL:https://adenauer-bonn.de/termin/9c-vokabeltest-2/
END:VEVENT
BEGIN:VEVENT
DTSTART;VALUE=DATE:20210916
DTEND;VALUE=DATE:20210917
DTSTAMP:20260422T161931
CREATED:20210902T114922Z
LAST-MODIFIED:20210903T143051Z
UID:22396-1631750400-1631836799@adenauer-bonn.de
SUMMARY:M 8c HOH
DESCRIPTION:
URL:https://adenauer-bonn.de/termin/m-8c-hoh/
END:VEVENT
BEGIN:VEVENT
DTSTART;VALUE=DATE:20210916
DTEND;VALUE=DATE:20210917
DTSTAMP:20260422T161931
CREATED:20210906T094224Z
LAST-MODIFIED:20210908T093801Z
UID:22448-1631750400-1631836799@adenauer-bonn.de
SUMMARY:Klasse 8b Deutsch JAS
DESCRIPTION:
URL:https://adenauer-bonn.de/termin/klasse-8b-deutsch-2/
END:VEVENT
BEGIN:VEVENT
DTSTART;TZID=Europe/Berlin:20210916T113000
DTEND;TZID=Europe/Berlin:20210916T123000
DTSTAMP:20260422T161931
CREATED:20210818T164218Z
LAST-MODIFIED:20210818T165542Z
UID:22116-1631791800-1631795400@adenauer-bonn.de
SUMMARY:Klasse 7c Deutsch
DESCRIPTION:
URL:https://adenauer-bonn.de/termin/klasse-7c-deutsch-3/
END:VEVENT
BEGIN:VEVENT
DTSTART;VALUE=DATE:20210917
DTEND;VALUE=DATE:20210918
DTSTAMP:20260422T161931
CREATED:20210906T094334Z
LAST-MODIFIED:20210906T094334Z
UID:22451-1631836800-1631923199@adenauer-bonn.de
SUMMARY:Klasse 8c Deutsch JAS
DESCRIPTION:
URL:https://adenauer-bonn.de/termin/klasse-8c-deutsch-jas/
END:VEVENT
BEGIN:VEVENT
DTSTART;VALUE=DATE:20210917
DTEND;VALUE=DATE:20210918
DTSTAMP:20260422T161931
CREATED:20210906T094514Z
LAST-MODIFIED:20210906T094514Z
UID:22453-1631836800-1631923199@adenauer-bonn.de
SUMMARY:Klasse 8a Deutsch
DESCRIPTION:
URL:https://adenauer-bonn.de/termin/klasse-8a-deutsch/
END:VEVENT
BEGIN:VEVENT
DTSTART;VALUE=DATE:20210920
DTEND;VALUE=DATE:20210921
DTSTAMP:20260422T161931
CREATED:20210903T120250Z
LAST-MODIFIED:20210903T120250Z
UID:22415-1632096000-1632182399@adenauer-bonn.de
SUMMARY:Latein 9a/c
DESCRIPTION:
URL:https://adenauer-bonn.de/termin/latein-9a-c/
END:VEVENT
BEGIN:VEVENT
DTSTART;VALUE=DATE:20210921
DTEND;VALUE=DATE:20210922
DTSTAMP:20260422T161931
CREATED:20210827T170702Z
LAST-MODIFIED:20210827T170752Z
UID:22215-1632182400-1632268799@adenauer-bonn.de
SUMMARY:6b Deutsch Nr. 1
DESCRIPTION:
URL:https://adenauer-bonn.de/termin/22215/
END:VEVENT
BEGIN:VEVENT
DTSTART;VALUE=DATE:20210921
DTEND;VALUE=DATE:20210922
DTSTAMP:20260422T161931
CREATED:20210828T154113Z
LAST-MODIFIED:20210828T154113Z
UID:22233-1632182400-1632268799@adenauer-bonn.de
SUMMARY:F 7bc Nr.1 STA
DESCRIPTION:
URL:https://adenauer-bonn.de/termin/f-7bc-nr-1-sta/
END:VEVENT
BEGIN:VEVENT
DTSTART;VALUE=DATE:20210921
DTEND;VALUE=DATE:20210922
DTSTAMP:20260422T161931
CREATED:20210829T090050Z
LAST-MODIFIED:20210829T090050Z
UID:22242-1632182400-1632268799@adenauer-bonn.de
SUMMARY:5c Mathematik (SON)
DESCRIPTION:
URL:https://adenauer-bonn.de/termin/5c-mathematik-son/
END:VEVENT
BEGIN:VEVENT
DTSTART;VALUE=DATE:20210921
DTEND;VALUE=DATE:20210922
DTSTAMP:20260422T161931
CREATED:20210829T095214Z
LAST-MODIFIED:20210829T095214Z
UID:22252-1632182400-1632268799@adenauer-bonn.de
SUMMARY:Klasse 7ac Französisch
DESCRIPTION:
URL:https://adenauer-bonn.de/termin/klasse-7ac-franzoesisch-2/
END:VEVENT
BEGIN:VEVENT
DTSTART;VALUE=DATE:20210921
DTEND;VALUE=DATE:20210922
DTSTAMP:20260422T161931
CREATED:20210829T185601Z
LAST-MODIFIED:20210829T185827Z
UID:22306-1632182400-1632268799@adenauer-bonn.de
SUMMARY:9c Lernstand Englisch 1./2. Stunde
DESCRIPTION:
URL:https://adenauer-bonn.de/termin/9c-lernstand-e-1-2-stunde/
END:VEVENT
BEGIN:VEVENT
DTSTART;VALUE=DATE:20210921
DTEND;VALUE=DATE:20210922
DTSTAMP:20260422T161931
CREATED:20210830T115151Z
LAST-MODIFIED:20210830T115545Z
UID:22335-1632182400-1632268799@adenauer-bonn.de
SUMMARY:Lateinarbeit 7 a-c (GRE)
DESCRIPTION:
URL:https://adenauer-bonn.de/termin/lateinarbeit-7-a-c-gre/
END:VEVENT
BEGIN:VEVENT
DTSTART;VALUE=DATE:20210921
DTEND;VALUE=DATE:20210922
DTSTAMP:20260422T161931
CREATED:20210906T131117Z
LAST-MODIFIED:20210906T131117Z
UID:22462-1632182400-1632268799@adenauer-bonn.de
SUMMARY:6a Englisch 1. Klassenarbeit
DESCRIPTION:
URL:https://adenauer-bonn.de/termin/6a-englisch-1-klassenarbeit/
END:VEVENT
BEGIN:VEVENT
DTSTART;VALUE=DATE:20210922
DTEND;VALUE=DATE:20210923
DTSTAMP:20260422T161931
CREATED:20210818T164550Z
LAST-MODIFIED:20210828T081310Z
UID:22121-1632268800-1632355199@adenauer-bonn.de
SUMMARY:7b Deutsch (SON)
DESCRIPTION:
URL:https://adenauer-bonn.de/termin/7b-deutsch-son/
END:VEVENT
BEGIN:VEVENT
DTSTART;VALUE=DATE:20210922
DTEND;VALUE=DATE:20210923
DTSTAMP:20260422T161931
CREATED:20210825T152257Z
LAST-MODIFIED:20210825T152257Z
UID:22161-1632268800-1632355199@adenauer-bonn.de
SUMMARY:Mathematik 8a (STE)
DESCRIPTION:
URL:https://adenauer-bonn.de/termin/mathematik-8a-ste/
END:VEVENT
BEGIN:VEVENT
DTSTART;VALUE=DATE:20210922
DTEND;VALUE=DATE:20210923
DTSTAMP:20260422T161931
CREATED:20210829T141205Z
LAST-MODIFIED:20210829T141205Z
UID:22290-1632268800-1632355199@adenauer-bonn.de
SUMMARY:7a Deutsch (Spo)
DESCRIPTION:
URL:https://adenauer-bonn.de/termin/7a-deutsch-spo/
END:VEVENT
BEGIN:VEVENT
DTSTART;VALUE=DATE:20210923
DTEND;VALUE=DATE:20210924
DTSTAMP:20260422T161931
CREATED:20210829T185735Z
LAST-MODIFIED:20210829T185735Z
UID:22308-1632355200-1632441599@adenauer-bonn.de
SUMMARY:9b Lernstand Englisch 1./2. Stunde
DESCRIPTION:
URL:https://adenauer-bonn.de/termin/9b-lernstand-englisch-1-2-stunde/
END:VEVENT
BEGIN:VEVENT
DTSTART;VALUE=DATE:20210923
DTEND;VALUE=DATE:20210924
DTSTAMP:20260422T161931
CREATED:20210829T185854Z
LAST-MODIFIED:20210829T185854Z
UID:22311-1632355200-1632441599@adenauer-bonn.de
SUMMARY:9a Lernstand Englisch 5./6. Stunde
DESCRIPTION:
URL:https://adenauer-bonn.de/termin/9a-lernstand-englisch-5-6-stunde/
END:VEVENT
END:VCALENDAR