BEGIN:VCALENDAR
VERSION:2.0
PRODID:-//Konrad-Adenauer-Gymnasium - ECPv6.15.16//NONSGML v1.0//EN
CALSCALE:GREGORIAN
METHOD:PUBLISH
X-WR-CALNAME:Konrad-Adenauer-Gymnasium
X-ORIGINAL-URL:https://adenauer-bonn.de
X-WR-CALDESC:Veranstaltungen für Konrad-Adenauer-Gymnasium
REFRESH-INTERVAL;VALUE=DURATION:PT1H
X-Robots-Tag:noindex
X-PUBLISHED-TTL:PT1H
BEGIN:VTIMEZONE
TZID:Europe/Berlin
BEGIN:DAYLIGHT
TZOFFSETFROM:+0100
TZOFFSETTO:+0200
TZNAME:CEST
DTSTART:20200329T010000
END:DAYLIGHT
BEGIN:STANDARD
TZOFFSETFROM:+0200
TZOFFSETTO:+0100
TZNAME:CET
DTSTART:20201025T010000
END:STANDARD
BEGIN:DAYLIGHT
TZOFFSETFROM:+0100
TZOFFSETTO:+0200
TZNAME:CEST
DTSTART:20210328T010000
END:DAYLIGHT
BEGIN:STANDARD
TZOFFSETFROM:+0200
TZOFFSETTO:+0100
TZNAME:CET
DTSTART:20211031T010000
END:STANDARD
BEGIN:DAYLIGHT
TZOFFSETFROM:+0100
TZOFFSETTO:+0200
TZNAME:CEST
DTSTART:20220327T010000
END:DAYLIGHT
BEGIN:STANDARD
TZOFFSETFROM:+0200
TZOFFSETTO:+0100
TZNAME:CET
DTSTART:20221030T010000
END:STANDARD
END:VTIMEZONE
BEGIN:VEVENT
DTSTART;VALUE=DATE:20211001
DTEND;VALUE=DATE:20211002
DTSTAMP:20260420T234001
CREATED:20210827T131337Z
LAST-MODIFIED:20210827T131337Z
UID:22200-1633046400-1633132799@adenauer-bonn.de
SUMMARY:E 8a Nr.1 STA
DESCRIPTION:
URL:https://adenauer-bonn.de/termin/e-8a-nr-1-sta/
END:VEVENT
BEGIN:VEVENT
DTSTART;VALUE=DATE:20211001
DTEND;VALUE=DATE:20211002
DTSTAMP:20260420T234001
CREATED:20210920T061238Z
LAST-MODIFIED:20210920T061238Z
UID:22513-1633046400-1633132799@adenauer-bonn.de
SUMMARY:9 a/b Klassenarbeit Französisch
DESCRIPTION:
URL:https://adenauer-bonn.de/termin/9-a-b-klassenarbeit-franzoesisch/
END:VEVENT
BEGIN:VEVENT
DTSTART;VALUE=DATE:20211001
DTEND;VALUE=DATE:20211002
DTSTAMP:20260420T234001
CREATED:20210920T061920Z
LAST-MODIFIED:20210920T061920Z
UID:22515-1633046400-1633132799@adenauer-bonn.de
SUMMARY:Exkursion Wald 8a (STE)
DESCRIPTION:
URL:https://adenauer-bonn.de/termin/exkursion-wald-8a-ste/
END:VEVENT
BEGIN:VEVENT
DTSTART;VALUE=DATE:20211001
DTEND;VALUE=DATE:20211002
DTSTAMP:20260420T234001
CREATED:20210923T110144Z
LAST-MODIFIED:20210923T110144Z
UID:22553-1633046400-1633132799@adenauer-bonn.de
SUMMARY:6a Deutsch (EMR)
DESCRIPTION:
URL:https://adenauer-bonn.de/termin/6a-deutsch-emr-2/
END:VEVENT
BEGIN:VEVENT
DTSTART;VALUE=DATE:20211004
DTEND;VALUE=DATE:20211005
DTSTAMP:20260420T234001
CREATED:20210829T155140Z
LAST-MODIFIED:20210829T155140Z
UID:22294-1633305600-1633391999@adenauer-bonn.de
SUMMARY:Diff 9
DESCRIPTION:
URL:https://adenauer-bonn.de/termin/diff-9/
END:VEVENT
BEGIN:VEVENT
DTSTART;VALUE=DATE:20211004
DTEND;VALUE=DATE:20211005
DTSTAMP:20260420T234001
CREATED:20210903T102755Z
LAST-MODIFIED:20210906T061649Z
UID:22413-1633305600-1633391999@adenauer-bonn.de
SUMMARY:Klassenarbeit Lat 8a/c GOE
DESCRIPTION:
URL:https://adenauer-bonn.de/termin/klassenarbeit-lat-8a-c/
END:VEVENT
BEGIN:VEVENT
DTSTART;VALUE=DATE:20211005
DTEND;VALUE=DATE:20211006
DTSTAMP:20260420T234001
CREATED:20210909T073929Z
LAST-MODIFIED:20210925T084640Z
UID:22489-1633392000-1633478399@adenauer-bonn.de
SUMMARY:9c Mathearbeit
DESCRIPTION:
URL:https://adenauer-bonn.de/termin/9c-mathearbeit/
END:VEVENT
BEGIN:VEVENT
DTSTART;VALUE=DATE:20211005
DTEND;VALUE=DATE:20211006
DTSTAMP:20260420T234001
CREATED:20210914T092044Z
LAST-MODIFIED:20210920T075901Z
UID:22496-1633392000-1633478399@adenauer-bonn.de
SUMMARY:7c Mathematik
DESCRIPTION:
URL:https://adenauer-bonn.de/termin/m-7c/
END:VEVENT
BEGIN:VEVENT
DTSTART;VALUE=DATE:20211006
DTEND;VALUE=DATE:20211007
DTSTAMP:20260420T234001
CREATED:20210829T095647Z
LAST-MODIFIED:20210829T095647Z
UID:22263-1633478400-1633564799@adenauer-bonn.de
SUMMARY:Klasse 9a Deutsch
DESCRIPTION:
URL:https://adenauer-bonn.de/termin/klasse-9a-deutsch/
END:VEVENT
BEGIN:VEVENT
DTSTART;TZID=Europe/Berlin:20211007T080000
DTEND;TZID=Europe/Berlin:20211007T170000
DTSTAMP:20260420T234001
CREATED:20210915T101613Z
LAST-MODIFIED:20210915T101613Z
UID:22502-1633593600-1633626000@adenauer-bonn.de
SUMMARY:8b Mathematik Klassenarbeit
DESCRIPTION:Klassenarbeit zum Thema lineare Funktionen. \n  \nEine Inhaltsübersicht erhält die Lerngruppe im Unterricht oder über Teams.
URL:https://adenauer-bonn.de/termin/8b-mathematik-klassenarbeit/
END:VEVENT
BEGIN:VEVENT
DTSTART;VALUE=DATE:20211011
DTEND;VALUE=DATE:20211025
DTSTAMP:20260420T234001
CREATED:20210829T155033Z
LAST-MODIFIED:20210829T155033Z
UID:22292-1633910400-1635119999@adenauer-bonn.de
SUMMARY:Herbstferien
DESCRIPTION:
URL:https://adenauer-bonn.de/termin/herbstferien-2/
END:VEVENT
BEGIN:VEVENT
DTSTART;VALUE=DATE:20211026
DTEND;VALUE=DATE:20211027
DTSTAMP:20260420T234001
CREATED:20210827T171147Z
LAST-MODIFIED:20210827T171147Z
UID:22219-1635206400-1635292799@adenauer-bonn.de
SUMMARY:9c Deutsch Nr. 1
DESCRIPTION:
URL:https://adenauer-bonn.de/termin/9c-deutsch-nr-1/
END:VEVENT
BEGIN:VEVENT
DTSTART;VALUE=DATE:20211027
DTEND;VALUE=DATE:20211028
DTSTAMP:20260420T234001
CREATED:20210904T140200Z
LAST-MODIFIED:20210904T140200Z
UID:22429-1635292800-1635379199@adenauer-bonn.de
SUMMARY:9b Englischarbeit
DESCRIPTION:
URL:https://adenauer-bonn.de/termin/9b-englischarbeit/
END:VEVENT
BEGIN:VEVENT
DTSTART;VALUE=DATE:20211028
DTEND;VALUE=DATE:20211029
DTSTAMP:20260420T234001
CREATED:20210920T075919Z
LAST-MODIFIED:20210920T080016Z
UID:22521-1635379200-1635465599@adenauer-bonn.de
SUMMARY:9a Mathematik
DESCRIPTION:
URL:https://adenauer-bonn.de/termin/9a-mathematik/
END:VEVENT
BEGIN:VEVENT
DTSTART;TZID=Europe/Berlin:20211028T080000
DTEND;TZID=Europe/Berlin:20211028T170000
DTSTAMP:20260420T234001
CREATED:20211005T151848Z
LAST-MODIFIED:20211005T151848Z
UID:23481-1635408000-1635440400@adenauer-bonn.de
SUMMARY:5a Vokabeltest Englisch
DESCRIPTION:
URL:https://adenauer-bonn.de/termin/5a-vokabeltest-englisch/
END:VEVENT
BEGIN:VEVENT
DTSTART;TZID=Europe/Berlin:20211028T080000
DTEND;TZID=Europe/Berlin:20211028T170000
DTSTAMP:20260420T234001
CREATED:20211005T151923Z
LAST-MODIFIED:20211005T151923Z
UID:23483-1635408000-1635440400@adenauer-bonn.de
SUMMARY:7a Vokabeltest Englisch
DESCRIPTION:
URL:https://adenauer-bonn.de/termin/7a-vokabeltest-englisch/
END:VEVENT
BEGIN:VEVENT
DTSTART;TZID=Europe/Berlin:20211028T080000
DTEND;TZID=Europe/Berlin:20211028T170000
DTSTAMP:20260420T234001
CREATED:20211027T054826Z
LAST-MODIFIED:20211027T054826Z
UID:23561-1635408000-1635440400@adenauer-bonn.de
SUMMARY:Biologie Test 6c
DESCRIPTION:
URL:https://adenauer-bonn.de/termin/biologie-test-6c/
END:VEVENT
BEGIN:VEVENT
DTSTART;VALUE=DATE:20211029
DTEND;VALUE=DATE:20211030
DTSTAMP:20260420T234001
CREATED:20210906T062923Z
LAST-MODIFIED:20210906T062923Z
UID:22441-1635465600-1635551999@adenauer-bonn.de
SUMMARY:LAT 9a/c GOE
DESCRIPTION:
URL:https://adenauer-bonn.de/termin/lat-9a-c-goe/
END:VEVENT
BEGIN:VEVENT
DTSTART;TZID=Europe/Berlin:20211029T095000
DTEND;TZID=Europe/Berlin:20211029T103500
DTSTAMP:20260420T234001
CREATED:20210828T122115Z
LAST-MODIFIED:20210828T122115Z
UID:22225-1635501000-1635503700@adenauer-bonn.de
SUMMARY:9a-c Französisch CYP
DESCRIPTION:
URL:https://adenauer-bonn.de/termin/9a-c-franzoesisch-cyp/
END:VEVENT
END:VCALENDAR