BEGIN:VCALENDAR
VERSION:2.0
PRODID:-//Konrad-Adenauer-Gymnasium - ECPv6.15.16//NONSGML v1.0//EN
CALSCALE:GREGORIAN
METHOD:PUBLISH
X-WR-CALNAME:Konrad-Adenauer-Gymnasium
X-ORIGINAL-URL:https://adenauer-bonn.de
X-WR-CALDESC:Veranstaltungen für Konrad-Adenauer-Gymnasium
REFRESH-INTERVAL;VALUE=DURATION:PT1H
X-Robots-Tag:noindex
X-PUBLISHED-TTL:PT1H
BEGIN:VTIMEZONE
TZID:Europe/Berlin
BEGIN:DAYLIGHT
TZOFFSETFROM:+0100
TZOFFSETTO:+0200
TZNAME:CEST
DTSTART:20200329T010000
END:DAYLIGHT
BEGIN:STANDARD
TZOFFSETFROM:+0200
TZOFFSETTO:+0100
TZNAME:CET
DTSTART:20201025T010000
END:STANDARD
BEGIN:DAYLIGHT
TZOFFSETFROM:+0100
TZOFFSETTO:+0200
TZNAME:CEST
DTSTART:20210328T010000
END:DAYLIGHT
BEGIN:STANDARD
TZOFFSETFROM:+0200
TZOFFSETTO:+0100
TZNAME:CET
DTSTART:20211031T010000
END:STANDARD
BEGIN:DAYLIGHT
TZOFFSETFROM:+0100
TZOFFSETTO:+0200
TZNAME:CEST
DTSTART:20220327T010000
END:DAYLIGHT
BEGIN:STANDARD
TZOFFSETFROM:+0200
TZOFFSETTO:+0100
TZNAME:CET
DTSTART:20221030T010000
END:STANDARD
END:VTIMEZONE
BEGIN:VEVENT
DTSTART;VALUE=DATE:20211103
DTEND;VALUE=DATE:20211104
DTSTAMP:20260420T193436
CREATED:20210818T165122Z
LAST-MODIFIED:20210818T165122Z
UID:22140-1635897600-1635983999@adenauer-bonn.de
SUMMARY:7b Mathe (SON)
DESCRIPTION:
URL:https://adenauer-bonn.de/termin/7b-mathe-son-2/
END:VEVENT
BEGIN:VEVENT
DTSTART;VALUE=DATE:20211103
DTEND;VALUE=DATE:20211104
DTSTAMP:20260420T193436
CREATED:20210818T165234Z
LAST-MODIFIED:20210818T165234Z
UID:22149-1635897600-1635983999@adenauer-bonn.de
SUMMARY:6b Mathe (SON)
DESCRIPTION:
URL:https://adenauer-bonn.de/termin/6b-mathe-son-2/
END:VEVENT
BEGIN:VEVENT
DTSTART;VALUE=DATE:20211103
DTEND;VALUE=DATE:20211104
DTSTAMP:20260420T193436
CREATED:20210906T141832Z
LAST-MODIFIED:20210915T182056Z
UID:22467-1635897600-1635983999@adenauer-bonn.de
SUMMARY:Potenzialanalyse Klasse 8c
DESCRIPTION:
URL:https://adenauer-bonn.de/termin/potenzialanalyse-klasse-8b/
END:VEVENT
BEGIN:VEVENT
DTSTART;VALUE=DATE:20211103
DTEND;VALUE=DATE:20211104
DTSTAMP:20260420T193436
CREATED:20211022T104439Z
LAST-MODIFIED:20211022T104439Z
UID:23516-1635897600-1635983999@adenauer-bonn.de
SUMMARY:9b Deutscharbeit
DESCRIPTION:
URL:https://adenauer-bonn.de/termin/9b-deutscharbeit/
END:VEVENT
BEGIN:VEVENT
DTSTART;VALUE=DATE:20211104
DTEND;VALUE=DATE:20211105
DTSTAMP:20260420T193436
CREATED:20210906T141914Z
LAST-MODIFIED:20210915T182146Z
UID:22469-1635984000-1636070399@adenauer-bonn.de
SUMMARY:Potenzialanalyse Klasse 8b
DESCRIPTION:
URL:https://adenauer-bonn.de/termin/potenzialanalyse-klasse-8c/
END:VEVENT
BEGIN:VEVENT
DTSTART;VALUE=DATE:20211104
DTEND;VALUE=DATE:20211105
DTSTAMP:20260420T193436
CREATED:20211029T061550Z
LAST-MODIFIED:20211029T061550Z
UID:23589-1635984000-1636070399@adenauer-bonn.de
SUMMARY:Vokabeltest 9C
DESCRIPTION:
URL:https://adenauer-bonn.de/termin/vokabeltest-9c/
END:VEVENT
BEGIN:VEVENT
DTSTART;VALUE=DATE:20211105
DTEND;VALUE=DATE:20211106
DTSTAMP:20260420T193436
CREATED:20211103T103830Z
LAST-MODIFIED:20211103T103830Z
UID:23619-1636070400-1636156799@adenauer-bonn.de
SUMMARY:9b PH-Test HOH
DESCRIPTION:
URL:https://adenauer-bonn.de/termin/9b-ph-test-hoh/
END:VEVENT
BEGIN:VEVENT
DTSTART;VALUE=DATE:20211109
DTEND;VALUE=DATE:20211110
DTSTAMP:20260420T193436
CREATED:20210818T164924Z
LAST-MODIFIED:20210818T164924Z
UID:22133-1636416000-1636502399@adenauer-bonn.de
SUMMARY:7b Deutsch (SON)
DESCRIPTION:
URL:https://adenauer-bonn.de/termin/7b-deutsch-son-2/
END:VEVENT
BEGIN:VEVENT
DTSTART;VALUE=DATE:20211109
DTEND;VALUE=DATE:20211110
DTSTAMP:20260420T193436
CREATED:20210906T142014Z
LAST-MODIFIED:20210906T142014Z
UID:22471-1636416000-1636502399@adenauer-bonn.de
SUMMARY:Potenzialanalyse Klasse 8a
DESCRIPTION:
URL:https://adenauer-bonn.de/termin/potenzialanalyse-klasse-8a/
END:VEVENT
BEGIN:VEVENT
DTSTART;TZID=Europe/Berlin:20211109T080000
DTEND;TZID=Europe/Berlin:20211109T170000
DTSTAMP:20260420T193436
CREATED:20211027T055528Z
LAST-MODIFIED:20211027T055528Z
UID:23566-1636444800-1636477200@adenauer-bonn.de
SUMMARY:Biologie-Test 6b
DESCRIPTION:
URL:https://adenauer-bonn.de/termin/biologie-test-6b-2/
END:VEVENT
BEGIN:VEVENT
DTSTART;VALUE=DATE:20211111
DTEND;VALUE=DATE:20211112
DTSTAMP:20260420T193436
CREATED:20211029T061626Z
LAST-MODIFIED:20211029T061626Z
UID:23591-1636588800-1636675199@adenauer-bonn.de
SUMMARY:Vokabeltest 9C
DESCRIPTION:
URL:https://adenauer-bonn.de/termin/vokabeltest-9c-2/
END:VEVENT
BEGIN:VEVENT
DTSTART;TZID=Europe/Berlin:20211111T080000
DTEND;TZID=Europe/Berlin:20211111T170000
DTSTAMP:20260420T193436
CREATED:20211005T153134Z
LAST-MODIFIED:20211104T162607Z
UID:23493-1636617600-1636650000@adenauer-bonn.de
SUMMARY:5a Englisch Vokabeltest
DESCRIPTION:
URL:https://adenauer-bonn.de/termin/5a-englisch-vokabeltest/
END:VEVENT
BEGIN:VEVENT
DTSTART;TZID=Europe/Berlin:20211111T080000
DTEND;TZID=Europe/Berlin:20211111T170000
DTSTAMP:20260420T193436
CREATED:20211005T153811Z
LAST-MODIFIED:20211005T153811Z
UID:23503-1636617600-1636650000@adenauer-bonn.de
SUMMARY:7a Englisch Vokabeltest
DESCRIPTION:
URL:https://adenauer-bonn.de/termin/7a-englisch-vokabeltest-3/
END:VEVENT
BEGIN:VEVENT
DTSTART;TZID=Europe/Berlin:20211111T080000
DTEND;TZID=Europe/Berlin:20211111T170000
DTSTAMP:20260420T193436
CREATED:20211027T055059Z
LAST-MODIFIED:20211027T055437Z
UID:23563-1636617600-1636650000@adenauer-bonn.de
SUMMARY:Biologie-Test 6a
DESCRIPTION:
URL:https://adenauer-bonn.de/termin/biologie-test-6b/
END:VEVENT
BEGIN:VEVENT
DTSTART;VALUE=DATE:20211112
DTEND;VALUE=DATE:20211113
DTSTAMP:20260420T193436
CREATED:20210901T150630Z
LAST-MODIFIED:20210901T150630Z
UID:22380-1636675200-1636761599@adenauer-bonn.de
SUMMARY:7C ENG 2. Arbeit
DESCRIPTION:
URL:https://adenauer-bonn.de/termin/7c-eng-2-arbeit/
END:VEVENT
BEGIN:VEVENT
DTSTART;VALUE=DATE:20211115
DTEND;VALUE=DATE:20211116
DTSTAMP:20260420T193436
CREATED:20210903T120431Z
LAST-MODIFIED:20210903T120713Z
UID:22419-1636934400-1637020799@adenauer-bonn.de
SUMMARY:Latein 9a/c GOE
DESCRIPTION:
URL:https://adenauer-bonn.de/termin/latein-9a-c-2/
END:VEVENT
BEGIN:VEVENT
DTSTART;VALUE=DATE:20211115
DTEND;VALUE=DATE:20211116
DTSTAMP:20260420T193436
CREATED:20210903T154140Z
LAST-MODIFIED:20210903T154140Z
UID:22425-1636934400-1637020799@adenauer-bonn.de
SUMMARY:L/F 8
DESCRIPTION:
URL:https://adenauer-bonn.de/termin/l-f-8-3/
END:VEVENT
BEGIN:VEVENT
DTSTART;VALUE=DATE:20211116
DTEND;VALUE=DATE:20211117
DTSTAMP:20260420T193436
CREATED:20210827T130003Z
LAST-MODIFIED:20210827T130003Z
UID:22193-1637020800-1637107199@adenauer-bonn.de
SUMMARY:F 7bc Nr.2 STA
DESCRIPTION:
URL:https://adenauer-bonn.de/termin/f-7bc-nr-2-sta/
END:VEVENT
BEGIN:VEVENT
DTSTART;VALUE=DATE:20211116
DTEND;VALUE=DATE:20211117
DTSTAMP:20260420T193436
CREATED:20210829T095057Z
LAST-MODIFIED:20211103T153347Z
UID:22247-1637020800-1637107199@adenauer-bonn.de
SUMMARY:Klasse 7ab Französisch STG
DESCRIPTION:
URL:https://adenauer-bonn.de/termin/klasse-7ac-franzoesisch/
END:VEVENT
BEGIN:VEVENT
DTSTART;VALUE=DATE:20211116
DTEND;VALUE=DATE:20211117
DTSTAMP:20260420T193436
CREATED:20210830T115810Z
LAST-MODIFIED:20210830T115810Z
UID:22337-1637020800-1637107199@adenauer-bonn.de
SUMMARY:2. Lateinarbeit 7 a-c (GRE)
DESCRIPTION:
URL:https://adenauer-bonn.de/termin/2-lateinarbeit-7-a-c-gre/
END:VEVENT
BEGIN:VEVENT
DTSTART;VALUE=DATE:20211116
DTEND;VALUE=DATE:20211117
DTSTAMP:20260420T193436
CREATED:20211027T164234Z
LAST-MODIFIED:20211028T044218Z
UID:23579-1637020800-1637107199@adenauer-bonn.de
SUMMARY:Mathe 5c (SON)
DESCRIPTION:
URL:https://adenauer-bonn.de/termin/mathe-5c-son/
END:VEVENT
BEGIN:VEVENT
DTSTART;VALUE=DATE:20211116
DTEND;VALUE=DATE:20211117
DTSTAMP:20260420T193436
CREATED:20211107T165202Z
LAST-MODIFIED:20211107T165202Z
UID:23652-1637020800-1637107199@adenauer-bonn.de
SUMMARY:Physiktest 6a HOH
DESCRIPTION:
URL:https://adenauer-bonn.de/termin/physiktest-6a-hoh/
END:VEVENT
BEGIN:VEVENT
DTSTART;TZID=Europe/Berlin:20211116T080000
DTEND;TZID=Europe/Berlin:20211116T170000
DTSTAMP:20260420T193436
CREATED:20211112T091306Z
LAST-MODIFIED:20211112T091306Z
UID:23671-1637049600-1637082000@adenauer-bonn.de
SUMMARY:Mathe Kl.9
DESCRIPTION:
URL:https://adenauer-bonn.de/termin/mathe-kl-9/
END:VEVENT
BEGIN:VEVENT
DTSTART;VALUE=DATE:20211117
DTEND;VALUE=DATE:20211118
DTSTAMP:20260420T193436
CREATED:20211107T164749Z
LAST-MODIFIED:20211107T164749Z
UID:23650-1637107200-1637193599@adenauer-bonn.de
SUMMARY:Physiktest 9c HOH
DESCRIPTION:
URL:https://adenauer-bonn.de/termin/physiktest-9c-hoh/
END:VEVENT
BEGIN:VEVENT
DTSTART;VALUE=DATE:20211118
DTEND;VALUE=DATE:20211119
DTSTAMP:20260420T193436
CREATED:20210825T152731Z
LAST-MODIFIED:20210825T152731Z
UID:22171-1637193600-1637279999@adenauer-bonn.de
SUMMARY:Mathematik 7a (STE)
DESCRIPTION:
URL:https://adenauer-bonn.de/termin/mathematik-7a-ste-2/
END:VEVENT
BEGIN:VEVENT
DTSTART;VALUE=DATE:20211118
DTEND;VALUE=DATE:20211119
DTSTAMP:20260420T193436
CREATED:20210902T115137Z
LAST-MODIFIED:20210902T115137Z
UID:22400-1637193600-1637279999@adenauer-bonn.de
SUMMARY:M 8c HOH
DESCRIPTION:
URL:https://adenauer-bonn.de/termin/m-8c-hoh-2/
END:VEVENT
BEGIN:VEVENT
DTSTART;VALUE=DATE:20211118
DTEND;VALUE=DATE:20211119
DTSTAMP:20260420T193436
CREATED:20211024T145946Z
LAST-MODIFIED:20211024T145946Z
UID:23528-1637193600-1637279999@adenauer-bonn.de
SUMMARY:6c  Deutscharbeit 2
DESCRIPTION:
URL:https://adenauer-bonn.de/termin/6c-deutscharbeit-2/
END:VEVENT
BEGIN:VEVENT
DTSTART;VALUE=DATE:20211118
DTEND;VALUE=DATE:20211119
DTSTAMP:20260420T193436
CREATED:20211029T061900Z
LAST-MODIFIED:20211029T061900Z
UID:23595-1637193600-1637279999@adenauer-bonn.de
SUMMARY:Biologietest 9C
DESCRIPTION:
URL:https://adenauer-bonn.de/termin/biologietest-9c/
END:VEVENT
BEGIN:VEVENT
DTSTART;VALUE=DATE:20211118
DTEND;VALUE=DATE:20211119
DTSTAMP:20260420T193436
CREATED:20211108T132241Z
LAST-MODIFIED:20211108T132241Z
UID:23654-1637193600-1637279999@adenauer-bonn.de
SUMMARY:5c Erdkundetest
DESCRIPTION:
URL:https://adenauer-bonn.de/termin/5c-erdkundetest/
END:VEVENT
BEGIN:VEVENT
DTSTART;VALUE=DATE:20211119
DTEND;VALUE=DATE:20211120
DTSTAMP:20260420T193436
CREATED:20210827T132429Z
LAST-MODIFIED:20210827T132429Z
UID:22202-1637280000-1637366399@adenauer-bonn.de
SUMMARY:E 6b Nr.2 STA
DESCRIPTION:
URL:https://adenauer-bonn.de/termin/e-6b-nr-2-sta/
END:VEVENT
END:VCALENDAR