BEGIN:VCALENDAR
VERSION:2.0
PRODID:-//Konrad-Adenauer-Gymnasium - ECPv6.15.20//NONSGML v1.0//EN
CALSCALE:GREGORIAN
METHOD:PUBLISH
X-WR-CALNAME:Konrad-Adenauer-Gymnasium
X-ORIGINAL-URL:https://adenauer-bonn.de
X-WR-CALDESC:Veranstaltungen für Konrad-Adenauer-Gymnasium
REFRESH-INTERVAL;VALUE=DURATION:PT1H
X-Robots-Tag:noindex
X-PUBLISHED-TTL:PT1H
BEGIN:VTIMEZONE
TZID:Europe/Berlin
BEGIN:DAYLIGHT
TZOFFSETFROM:+0100
TZOFFSETTO:+0200
TZNAME:CEST
DTSTART:20240331T010000
END:DAYLIGHT
BEGIN:STANDARD
TZOFFSETFROM:+0200
TZOFFSETTO:+0100
TZNAME:CET
DTSTART:20241027T010000
END:STANDARD
BEGIN:DAYLIGHT
TZOFFSETFROM:+0100
TZOFFSETTO:+0200
TZNAME:CEST
DTSTART:20250330T010000
END:DAYLIGHT
BEGIN:STANDARD
TZOFFSETFROM:+0200
TZOFFSETTO:+0100
TZNAME:CET
DTSTART:20251026T010000
END:STANDARD
BEGIN:DAYLIGHT
TZOFFSETFROM:+0100
TZOFFSETTO:+0200
TZNAME:CEST
DTSTART:20260329T010000
END:DAYLIGHT
BEGIN:STANDARD
TZOFFSETFROM:+0200
TZOFFSETTO:+0100
TZNAME:CET
DTSTART:20261025T010000
END:STANDARD
END:VTIMEZONE
BEGIN:VEVENT
DTSTART;VALUE=DATE:20250901
DTEND;VALUE=DATE:20250902
DTSTAMP:20260425T133036
CREATED:20250901T142319Z
LAST-MODIFIED:20250901T142319Z
UID:34098-1756684800-1756771199@adenauer-bonn.de
SUMMARY:9c Mathe HOH
DESCRIPTION:
URL:https://adenauer-bonn.de/termin/9c-mathe-hoh/
END:VEVENT
BEGIN:VEVENT
DTSTART;TZID=Europe/Berlin:20250904T080000
DTEND;TZID=Europe/Berlin:20250904T170000
DTSTAMP:20260425T133036
CREATED:20250828T063048Z
LAST-MODIFIED:20250828T063048Z
UID:33885-1756972800-1757005200@adenauer-bonn.de
SUMMARY:8a Englisch Vok.-Test
DESCRIPTION:Across Cultures (Quizlet sets 1 + 2
URL:https://adenauer-bonn.de/termin/8a-englisch-vok-test/
END:VEVENT
BEGIN:VEVENT
DTSTART;VALUE=DATE:20250905
DTEND;VALUE=DATE:20250906
DTSTAMP:20260425T133036
CREATED:20250828T141455Z
LAST-MODIFIED:20250828T141455Z
UID:33906-1757030400-1757116799@adenauer-bonn.de
SUMMARY:10C Voktest 1
DESCRIPTION:p. 227: make one’s voice heard -> 228: partnership
URL:https://adenauer-bonn.de/termin/10c-voktest-1/
END:VEVENT
BEGIN:VEVENT
DTSTART;VALUE=DATE:20250909
DTEND;VALUE=DATE:20250910
DTSTAMP:20260425T133036
CREATED:20250828T174947Z
LAST-MODIFIED:20250828T174947Z
UID:33927-1757376000-1757462399@adenauer-bonn.de
SUMMARY:6b Englisch Vokabeltest (1) BIR
DESCRIPTION:
URL:https://adenauer-bonn.de/termin/6b-englisch-vokabeltest-1-bir/
END:VEVENT
BEGIN:VEVENT
DTSTART;VALUE=DATE:20250910
DTEND;VALUE=DATE:20250911
DTSTAMP:20260425T133036
CREATED:20250828T183928Z
LAST-MODIFIED:20250828T185313Z
UID:33952-1757462400-1757548799@adenauer-bonn.de
SUMMARY:5a Englisch BIR Vokabeltest 1
DESCRIPTION:
URL:https://adenauer-bonn.de/termin/5a-englisch-bir-vokabeltest-1/
END:VEVENT
BEGIN:VEVENT
DTSTART;VALUE=DATE:20250912
DTEND;VALUE=DATE:20250913
DTSTAMP:20260425T133036
CREATED:20250826T075331Z
LAST-MODIFIED:20250903T120423Z
UID:33838-1757635200-1757721599@adenauer-bonn.de
SUMMARY:Ge Test 10 c
DESCRIPTION:
URL:https://adenauer-bonn.de/termin/ge-test-10-c/
END:VEVENT
BEGIN:VEVENT
DTSTART;VALUE=DATE:20250912
DTEND;VALUE=DATE:20250913
DTSTAMP:20260425T133036
CREATED:20250828T142008Z
LAST-MODIFIED:20250828T142008Z
UID:33909-1757635200-1757721599@adenauer-bonn.de
SUMMARY:5B Voktest 1
DESCRIPTION:TB p. 184: We’re from -> 188: like me
URL:https://adenauer-bonn.de/termin/5b-voktest-1/
END:VEVENT
BEGIN:VEVENT
DTSTART;VALUE=DATE:20250912
DTEND;VALUE=DATE:20250913
DTSTAMP:20260425T133036
CREATED:20250828T184438Z
LAST-MODIFIED:20250828T184438Z
UID:33960-1757635200-1757721599@adenauer-bonn.de
SUMMARY:8A Physik Test
DESCRIPTION:
URL:https://adenauer-bonn.de/termin/8a-physik-test/
END:VEVENT
BEGIN:VEVENT
DTSTART;TZID=Europe/Berlin:20250915T080000
DTEND;TZID=Europe/Berlin:20250915T170000
DTSTAMP:20260425T133036
CREATED:20250828T210916Z
LAST-MODIFIED:20250829T103457Z
UID:33974-1757923200-1757955600@adenauer-bonn.de
SUMMARY:7b Englisch Vok.-Test
DESCRIPTION:Unit 1 -erster Teil Quizlet sets JUh 1-4
URL:https://adenauer-bonn.de/termin/7b-englisch-vok-test-2/
END:VEVENT
BEGIN:VEVENT
DTSTART;VALUE=DATE:20250916
DTEND;VALUE=DATE:20250917
DTSTAMP:20260425T133036
CREATED:20250828T183315Z
LAST-MODIFIED:20250828T183709Z
UID:33940-1757980800-1758067199@adenauer-bonn.de
SUMMARY:8B Physik Test
DESCRIPTION:
URL:https://adenauer-bonn.de/termin/8b-physik-test/
END:VEVENT
BEGIN:VEVENT
DTSTART;VALUE=DATE:20250917
DTEND;VALUE=DATE:20250918
DTSTAMP:20260425T133036
CREATED:20250901T170553Z
LAST-MODIFIED:20250901T170613Z
UID:34104-1758067200-1758153599@adenauer-bonn.de
SUMMARY:Q1 E5 BIER Vokabeltest
DESCRIPTION:US history and US politics
URL:https://adenauer-bonn.de/termin/q1-e5-bier-vokabeltest/
END:VEVENT
BEGIN:VEVENT
DTSTART;VALUE=DATE:20250919
DTEND;VALUE=DATE:20250920
DTSTAMP:20260425T133036
CREATED:20250828T175028Z
LAST-MODIFIED:20250828T190457Z
UID:33929-1758240000-1758326399@adenauer-bonn.de
SUMMARY:6b Englisch BIR Vokabeltest (2)
DESCRIPTION:
URL:https://adenauer-bonn.de/termin/6b-englisch-bir-vokabeltest-2/
END:VEVENT
BEGIN:VEVENT
DTSTART;VALUE=DATE:20250919
DTEND;VALUE=DATE:20250920
DTSTAMP:20260425T133036
CREATED:20250828T184045Z
LAST-MODIFIED:20250828T184045Z
UID:33954-1758240000-1758326399@adenauer-bonn.de
SUMMARY:5a Englisch BIR Vokabeltest 2
DESCRIPTION:
URL:https://adenauer-bonn.de/termin/5a-englisch-bir-vokabeltest-2/
END:VEVENT
BEGIN:VEVENT
DTSTART;VALUE=DATE:20250919
DTEND;VALUE=DATE:20250920
DTSTAMP:20260425T133036
CREATED:20250911T132625Z
LAST-MODIFIED:20250911T132625Z
UID:34208-1758240000-1758326399@adenauer-bonn.de
SUMMARY:10C Vokabeltest
DESCRIPTION:229: comsumerism -> 231: increase
URL:https://adenauer-bonn.de/termin/10c-vokabeltest/
END:VEVENT
BEGIN:VEVENT
DTSTART;VALUE=DATE:20250919
DTEND;VALUE=DATE:20250920
DTSTAMP:20260425T133036
CREATED:20250919T102259Z
LAST-MODIFIED:20250919T102259Z
UID:34334-1758240000-1758326399@adenauer-bonn.de
SUMMARY:Weihnachtstheater Klasse 5\,6\,7 und IVK
DESCRIPTION:
URL:https://adenauer-bonn.de/termin/weihnachtstheater-klasse-567-und-ivk/
END:VEVENT
BEGIN:VEVENT
DTSTART;TZID=Europe/Berlin:20250919T080000
DTEND;TZID=Europe/Berlin:20250919T170000
DTSTAMP:20260425T133036
CREATED:20250919T102423Z
LAST-MODIFIED:20250919T102423Z
UID:34339-1758268800-1758301200@adenauer-bonn.de
SUMMARY:Weihnachtstheater Klasse 6b
DESCRIPTION:
URL:https://adenauer-bonn.de/termin/weihnachtstheater-klasse-6b/
END:VEVENT
BEGIN:VEVENT
DTSTART;VALUE=DATE:20250922
DTEND;VALUE=DATE:20250923
DTSTAMP:20260425T133036
CREATED:20250903T162014Z
LAST-MODIFIED:20250903T162014Z
UID:34158-1758499200-1758585599@adenauer-bonn.de
SUMMARY:6b Deusch STR
DESCRIPTION:
URL:https://adenauer-bonn.de/termin/6b-deusch-str/
END:VEVENT
BEGIN:VEVENT
DTSTART;VALUE=DATE:20250922
DTEND;VALUE=DATE:20250923
DTSTAMP:20260425T133036
CREATED:20250912T055347Z
LAST-MODIFIED:20250912T055347Z
UID:34220-1758499200-1758585599@adenauer-bonn.de
SUMMARY:10a D (TPL)
DESCRIPTION:
URL:https://adenauer-bonn.de/termin/10a-d-tpl/
END:VEVENT
BEGIN:VEVENT
DTSTART;TZID=Europe/Berlin:20250922T080000
DTEND;TZID=Europe/Berlin:20250922T170000
DTSTAMP:20260425T133036
CREATED:20250827T093445Z
LAST-MODIFIED:20250827T093445Z
UID:33850-1758528000-1758560400@adenauer-bonn.de
SUMMARY:KA Deutsch 10b
DESCRIPTION:
URL:https://adenauer-bonn.de/termin/ka-deutsch-10b/
END:VEVENT
BEGIN:VEVENT
DTSTART;TZID=Europe/Berlin:20250922T080000
DTEND;TZID=Europe/Berlin:20250922T170000
DTSTAMP:20260425T133036
CREATED:20250829T142110Z
LAST-MODIFIED:20250829T142110Z
UID:33983-1758528000-1758560400@adenauer-bonn.de
SUMMARY:7b Englisch-Vokabeltest
DESCRIPTION:
URL:https://adenauer-bonn.de/termin/7b-englisch-vokabeltest-5/
END:VEVENT
BEGIN:VEVENT
DTSTART;VALUE=DATE:20250924
DTEND;VALUE=DATE:20250925
DTSTAMP:20260425T133036
CREATED:20250904T073923Z
LAST-MODIFIED:20250904T073923Z
UID:34170-1758672000-1758758399@adenauer-bonn.de
SUMMARY:Fahrrad-Aktionstag Klassen 6
DESCRIPTION:
URL:https://adenauer-bonn.de/termin/fahrrad-aktionstag-klassen-6/
END:VEVENT
BEGIN:VEVENT
DTSTART;VALUE=DATE:20250924
DTEND;VALUE=DATE:20250925
DTSTAMP:20260425T133036
CREATED:20250906T132952Z
LAST-MODIFIED:20250906T133129Z
UID:34177-1758672000-1758758399@adenauer-bonn.de
SUMMARY:9b/9c D MLR KA (1)
DESCRIPTION:
URL:https://adenauer-bonn.de/termin/ka-1-9b-9c-deutsch-mlr/
END:VEVENT
BEGIN:VEVENT
DTSTART;TZID=Europe/Berlin:20250924T080000
DTEND;TZID=Europe/Berlin:20250924T093500
DTSTAMP:20260425T133036
CREATED:20250908T144212Z
LAST-MODIFIED:20250916T162442Z
UID:34186-1758700800-1758706500@adenauer-bonn.de
SUMMARY:10A Weltspiel STI
DESCRIPTION:Im Rahmen der Bonner SDG Tage besucht eine Referentin des Programms „Bildung trifft Entwicklung“ (BtE) unsere Schule und führt mit der Klasse 10A einen Workshop durch. (1./2. Stunde)
URL:https://adenauer-bonn.de/termin/klasse-10a-weltspiel/
END:VEVENT
BEGIN:VEVENT
DTSTART;TZID=Europe/Berlin:20250924T095000
DTEND;TZID=Europe/Berlin:20250924T112500
DTSTAMP:20260425T133036
CREATED:20250908T144449Z
LAST-MODIFIED:20250916T162509Z
UID:34188-1758707400-1758713100@adenauer-bonn.de
SUMMARY:10B Weltspiel STI
DESCRIPTION:Im Rahmen der Bonner SDG Tage besucht eine Referentin des Programms „Bildung trifft Entwicklung“ (BtE) unsere Schule und führt mit der Klasse 10B einen Workshop durch. (3./4. Stunde)
URL:https://adenauer-bonn.de/termin/klasse-10b-weltspiel/
END:VEVENT
BEGIN:VEVENT
DTSTART;VALUE=DATE:20250925
DTEND;VALUE=DATE:20250926
DTSTAMP:20260425T133036
CREATED:20250907T082628Z
LAST-MODIFIED:20250907T082908Z
UID:34184-1758758400-1758844799@adenauer-bonn.de
SUMMARY:Deutsch 5a (SON)
DESCRIPTION:
URL:https://adenauer-bonn.de/termin/deutsch-5a-son/
END:VEVENT
BEGIN:VEVENT
DTSTART;TZID=Europe/Berlin:20250925T080000
DTEND;TZID=Europe/Berlin:20250925T170000
DTSTAMP:20260425T133036
CREATED:20250918T100907Z
LAST-MODIFIED:20250918T100907Z
UID:34318-1758787200-1758819600@adenauer-bonn.de
SUMMARY:Test 7abc PP
DESCRIPTION:
URL:https://adenauer-bonn.de/termin/test-7abc-pp/
END:VEVENT
BEGIN:VEVENT
DTSTART;TZID=Europe/Berlin:20250925T114500
DTEND;TZID=Europe/Berlin:20250925T132000
DTSTAMP:20260425T133036
CREATED:20250916T162331Z
LAST-MODIFIED:20250916T162417Z
UID:34277-1758800700-1758806400@adenauer-bonn.de
SUMMARY:10C Weltspiel STI
DESCRIPTION:Im Rahmen der Bonner SDG Tage besucht eine Referentin des Programms „Bildung trifft Entwicklung“ (BtE) unsere Schule und führt mit der Klasse 10A einen Workshop durch. (5./6. Stunde)
URL:https://adenauer-bonn.de/termin/10c-weltspiel/
END:VEVENT
BEGIN:VEVENT
DTSTART;VALUE=DATE:20250926
DTEND;VALUE=DATE:20250927
DTSTAMP:20260425T133036
CREATED:20250815T153509Z
LAST-MODIFIED:20250815T153509Z
UID:33776-1758844800-1758931199@adenauer-bonn.de
SUMMARY:Jhg 8+10-Präsentationen und Besuch im Unterricht DSBA
DESCRIPTION:
URL:https://adenauer-bonn.de/termin/jhg-810-praesentationen-und-besuch-im-unterricht-dsba/
END:VEVENT
BEGIN:VEVENT
DTSTART;VALUE=DATE:20250926
DTEND;VALUE=DATE:20250927
DTSTAMP:20260425T133036
CREATED:20250825T153718Z
LAST-MODIFIED:20250825T153718Z
UID:33797-1758844800-1758931199@adenauer-bonn.de
SUMMARY:7b Deutsch1
DESCRIPTION:Passiv
URL:https://adenauer-bonn.de/termin/7b-deutsch1/
END:VEVENT
BEGIN:VEVENT
DTSTART;VALUE=DATE:20250926
DTEND;VALUE=DATE:20250927
DTSTAMP:20260425T133036
CREATED:20250828T175102Z
LAST-MODIFIED:20250910T071912Z
UID:33932-1758844800-1758931199@adenauer-bonn.de
SUMMARY:6b Englisch BIR Klassenarbeit (1)
DESCRIPTION:
URL:https://adenauer-bonn.de/termin/6b-englisch-bir-klassenarbeit-1/
END:VEVENT
END:VCALENDAR